{"text_format":"1","workbook":"xlsx","n_sheets":4,"sheets":["Spelprogram Div 1","Spelprogram Div 2","Tabeller","Serieinformation"],"not_rendered":{"charts":0,"images":0,"macros":1,"external_links":0,"defined_names":4,"comments":0,"pivot_tables":0},"unopened":[],"bounds":{"document_bytes":16777216,"sheet_cells":100000,"rows_first":2000,"rows_last":500,"rows_between":2000,"halvings":0,"cell_chars":16384,"cell_head_chars":4096},"cells_cut":0,"cells_raw":0,"read":"whole","date_system":"1900"}

{"sheet":"Spelprogram Div 1","index":0,"n_rows":141,"n_cols":74,"rows_kept":141,"cut":false,"hidden":false,"merged":[]}
[null,null,null,null,null,"2019 / 2020"]
[null,null,null,null,null,"Division 1"]
["MatchNR:","Datum","Arrangör","Kl.","Bana","Hemmalag","Bortalag"]
[1,"2019-09-28","Karlskrona","10:00:00",1,"Växjö Hsk 2","Dynapac ",null,null,":"]
[2,"Omg 1",null,"10:00:00",2,"Tingsryd Hsc 1","Värends Hsk 1",null,null,":"]
[3,null,null,"10:00:00",3,"Sibbamåla","Korpen Åseda",null,null,":"]
[4,null,null,"10:00:00",4,"Carlskrona Hsc","Växjö Hsk 1",null,null,":"]
[5,null,null,"12:00:00",1,"Sibbamåla","Värends Hsk 1",null,null,":"]
[6,null,null,"12:00:00",2,"Dynapac ","Carlskrona Hsc",null,null,":"]
[7,null,null,"12:00:00",3,"Korpen Åseda","Tingsryd Hsc 1",null,null,":"]
[8,null,null,"12:00:00",4,"Växjö Hsk 2","Växjö Hsk 1",null,null,":"]
[]
[17,"2019-10-19","Tingsryd","10:00:00",1,"Tingsryd Hsc 1","Sibbamåla",null,null,":"]
[18,"Omg 2",null,"10:00:00",2,"Carlskrona Hsc","Växjö Hsk 2",null,null,":"]
[19,null,null,"10:00:00",3,"Värends Hsk 1","Korpen Åseda",null,null,":"]
[20,null,null,"10:00:00",4,"Växjö Hsk 1","Dynapac ",null,null,":"]
[21,null,null,"12:00:00",1,"Korpen Åseda","Carlskrona Hsc",null,null,":"]
[22,null,null,"12:00:00",2,"Dynapac ","Värends Hsk 1",null,null,":"]
[23,null,null,"12:00:00",3,"Sibbamåla","Växjö Hsk 1",null,null,":"]
[24,null,null,"12:00:00",4,"Växjö Hsk 2","Tingsryd Hsc 1",null,null,":"]
[]
[33,"2019-11-23","Karlskrona","10:00:00",1,"Dynapac ","Korpen Åseda",null,null,":"]
[34,"Omg 3",null,"10:00:00",2,"Sibbamåla","Växjö Hsk 2",null,null,":"]
[35,null,null,"10:00:00",3,"Växjö Hsk 1","Tingsryd Hsc 1",null,null,":"]
[36,null,null,"10:00:00",4,"Värends Hsk 1","Carlskrona Hsc",null,null,":"]
[37,null,null,"12:00:00",1,"Sibbamåla","Tingsryd Hsc 1",null,null,":"]
[38,null,null,"12:00:00",2,"Växjö Hsk 2","Carlskrona Hsc",null,null,":"]
[39,null,null,"12:00:00",3,"Korpen Åseda","Värends Hsk 1",null,null,":"]
[40,null,null,"12:00:00",4,"Dynapac ","Växjö Hsk 1",null,null,":"]
[]
[49,"2019-01-18","Åseda","10:00:00",1,"Korpen Åseda","Växjö Hsk 2",null,null,":"]
[50,"Omg 4",null,"10:00:00",2,"Värends Hsk 1","Växjö Hsk 1",null,null,":"]
[51,null,null,"12:00:00",1,"Värends Hsk 1","Växjö Hsk 2",null,null,":"]
[52,null,null,"12:00:00",2,"Korpen Åseda","Växjö Hsk 1",null,null,":"]
[]
[53,"2019-01-18","Karlskrona","10:00:00",1,"Dynapac ","Tingsryd Hsc 1",null,null,":"]
[54,"Omg 4",null,"10:00:00",2,"Sibbamåla","Carlskrona Hsc",null,null,":"]
[55,null,null,"12:00:00",1,"Dynapac ","Sibbamåla",null,null,":"]
[56,null,null,"12:00:00",2,"Carlskrona Hsc","Tingsryd Hsc 1",null,null,":"]
[]
[65,"2019-02-15","Tingsryd","10:00:00",1,"Sibbamåla","Dynapac ",null,null,":"]
[66,"Omg 5",null,"10:00:00",2,"Carlskrona Hsc","Värends Hsk 1",null,null,":"]
[67,null,null,"10:00:00",3,"Växjö Hsk 2","Korpen Åseda",null,null,":"]
[68,null,null,"10:00:00",4,"Tingsryd Hsc 1","Växjö Hsk 1",null,null,":"]
[69,null,null,"12:00:00",1,"Korpen Åseda","Dynapac ",null,null,":"]
[70,null,null,"12:00:00",2,"Växjö Hsk 2","Värends Hsk 1",null,null,":"]
[71,null,null,"12:00:00",3,"Växjö Hsk 1","Sibbamåla",null,null,":"]
[72,null,null,"12:00:00",4,"Tingsryd Hsc 1","Carlskrona Hsc",null,null,":"]
[]
[81,"2019-03-07","Karlskrona","10:00:00",1,"Tingsryd Hsc 1","Växjö Hsk 2",null,null,":"]
[82,"Omg 6",null,"10:00:00",2,"Carlskrona Hsc","Sibbamåla",null,null,":"]
[83,null,null,"10:00:00",3,"Växjö Hsk 1","Korpen Åseda",null,null,":"]
[84,null,null,"10:00:00",4,"Värends Hsk 1","Dynapac ",null,null,":"]
[85,null,null,"12:00:00",1,"Växjö Hsk 2","Sibbamåla",null,null,":"]
[86,null,null,"12:00:00",2,"Carlskrona Hsc","Korpen Åseda",null,null,":"]
[87,null,null,"12:00:00",3,"Tingsryd Hsc 1","Dynapac ",null,null,":"]
[88,null,null,"12:00:00",4,"Växjö Hsk 1","Värends Hsk 1",null,null,":"]
[]
[97,"2019-03-29","Värend","10:00:00",1,"Värends Hsk 1","Sibbamåla",null,null,":"]
[98,"OBS!!! Söndag",null,"10:00:00",2,"Carlskrona Hsc","Dynapac ",null,null,":"]
[99,"Omg 7",null,"10:00:00",3,"Tingsryd Hsc 1","Korpen Åseda",null,null,":"]
[100,null,null,"10:00:00",4,"Växjö Hsk 1","Växjö Hsk 2",null,null,":"]
[101,null,null,"12:00:00",1,"Dynapac ","Växjö Hsk 2",null,null,":"]
[102,null,null,"12:00:00",2,"Värends Hsk 1","Tingsryd Hsc 1",null,null,":"]
[103,null,null,"12:00:00",3,"Korpen Åseda","Sibbamåla",null,null,":"]
[104,null,null,"12:00:00",4,"Växjö Hsk 1","Carlskrona Hsc",null,null,":"]
[]
[]
[]
["OBS!!!!"]
["Arrangör skickar in matchresultat via SMS till Tomas Lindahl direkt efter avslutade matcher "]
["Tel. 073-4004693 skriv matchnummer enligt spelprogram följt av resultatet i matchen."]
["Matchprotokollet skickas till Gert Karlsson via e-post:  gert.karlsson@svhkf.se "]
["för uppdatering av rankingtabell."]
[null,null,null,null,null,null,null,null,null,null,null,null,null,null,null,null,null,null,null,null,null,null,null,null,null,null,null,null,null,null,"Sibbamåla ",null,null,null,null,"Dynapac",null,null,null,null,"Korpen Åseda",null,null,null,null,"Växjö Hsk 1",null,null,null,null,"Carlskrona Hsc",null,null,null,null,"Växjö Hsk 2",null,null,null,null,null,null,null,null,null,"Värends Hsk 1",null,null,null,null,"Tingsryd Hsc 1"]
[null,null,null,null,null,null,null,null,null,null,null,null,null,null,null,null,null,null,"Sp.m","3p","2p","1p","0p",null,null,"Matchkvot",null,null,"Poäng"]
[null,null,null,null,null,null,null,null,null,null,null,null,null,null,null,null,null,{"$f":"AE75","v":"Sibbamåla "},{"$f":"COUNT(AE77:AH151)/(2)","v":0},{"$f":"SUM(S77,-U77,-V77,-W77)","v":0},{"$f":"COUNTIF(AG77:AH151,5)","v":0},{"$f":"COUNTIF(AE77:AF151,5)","v":0},{"$f":"COUNTIF(AE77:AF151,\"<5\")","v":0},null,{"$f":"SUM(AE77:AF151)","v":0},null,{"$f":"SUM(AG77:AH151)","v":0},{"$f":"Y77-AA77","v":0},{"$f":"SUM(T77*3)+(U77*2)+(V77*1)","v":0},null,{"$f":"IF(I4=\"\",\"-\",IF(F4=\"Sibbamåla\",I4,\"-\"))","v":"-"},{"$f":"IF(K4=\"\",\"-\",IF(G4=\"Sibbamåla\",K4,\"-\"))","v":"-"},{"$f":"IF(AE77<7,K4,\"-\")","v":"-"},{"$f":"IF(AF77<7,I4,\"-\")","v":"-"},null,{"$f":"IF(I4=\"\",\"-\",IF(F4=\"Dynapac\",I4,\"-\"))","v":"-"},{"$f":"IF(K4=\"\",\"-\",IF(G4=\"Dynapac\",K4,\"-\"))","v":"-"},{"$f":"IF(AJ77<7,K4,\"-\")","v":"-"},{"$f":"IF(AK77<7,I4,\"-\")","v":"-"},null,{"$f":"IF(I4=\"\",\"-\",IF(F4=\"Korpen Åseda\",I4,\"-\"))","v":"-"},{"$f":"IF(K4=\"\",\"-\",IF(G4=\"Korpen Åseda\",K4,\"-\"))","v":"-"},{"$f":"IF(AO77<7,K4,\"-\")","v":"-"},{"$f":"IF(AP77<7,I4,\"-\")","v":"-"},null,{"$f":"IF(I4=\"\",\"-\",IF(F4=\"växjö hsk 1\",I4,\"-\"))","v":"-"},{"$f":"IF(K4=\"\",\"-\",IF(G4=\"växjö hsk 1\",K4,\"-\"))","v":"-"},{"$f":"IF(AT77<7,K4,\"-\")","v":"-"},{"$f":"IF(AU77<7,I4,\"-\")","v":"-"},null,{"$f":"IF(I4=\"\",\"-\",IF(F4=\"Carlskrona Hsc\",I4,\"-\"))","v":"-"},{"$f":"IF(K4=\"\",\"-\",IF(G4=\"Carlskrona Hsc\",K4,\"-\"))","v":"-"},{"$f":"IF(AY77<7,K4,\"-\")","v":"-"},{"$f":"IF(AZ77<7,I4,\"-\")","v":"-"},null,{"$f":"IF(I4=\"\",\"-\",IF(F4=\"Växjö Hsk 2\",I4,\"-\"))","v":"-"},{"$f":"IF(K4=\"\",\"-\",IF(G4=\"Växjö Hsk 2\",K4,\"-\"))","v":"-"},{"$f":"IF(BD77<7,K4,\"-\")","v":"-"},{"$f":"IF(BE77<7,I4,\"-\")","v":"-"},null,null,null,null,null,null,{"$f":"IF(I4=\"\",\"-\",IF(F4=\"Värends Hsk 1\",I4,\"-\"))","v":"-"},{"$f":"IF(K4=\"\",\"-\",IF(G4=\"Värends Hsk 1\",K4,\"-\"))","v":"-"},{"$f":"IF(BN77<7,K4,\"-\")","v":"-"},{"$f":"IF(BO77<7,I4,\"-\")","v":"-"},null,{"$f":"IF(I4=\"\",\"-\",IF(F4=\"Tingsryd hsc 1\",I4,\"-\"))","v":"-"},{"$f":"IF(K4=\"\",\"-\",IF(G4=\"Tingsryd hsc 1\",K4,\"-\"))","v":"-"},{"$f":"IF(BS77<7,K4,\"-\")","v":"-"},{"$f":"IF(BT77<7,I4,\"-\")","v":"-"}]
[null,null,null,null,null,null,null,null,null,null,null,null,null,null,null,null,null,{"$f":"AJ75","v":"Dynapac"},{"$f":"COUNT(AJ77:AM151)/(2)","v":0},0,{"$f":"COUNTIF(AL77:AM151,5)","v":0},{"$f":"COUNTIF(AJ77:AK151,5)","v":0},{"$f":"COUNTIF(AJ77:AK151,\"<5\")","v":0},null,{"$f":"SUM(AJ77:AK151)","v":0},null,{"$f":"SUM(AL77:AM151)","v":0},0,0,null,"-","-","-","-",null,"-","-","-","-",null,"-","-","-","-",null,"-","-","-","-",null,"-","-","-","-",null,"-","-","-","-",null,null,null,null,null,null,"-","-","-","-",null,"-","-","-","-"]
[null,null,null,null,null,null,null,null,null,null,null,null,null,null,null,null,null,{"$f":"AO75","v":"Korpen Åseda"},{"$f":"COUNT(AO77:AR151)/(2)","v":0},0,{"$f":"COUNTIF(AQ77:AR151,5)","v":0},{"$f":"COUNTIF(AO77:AP151,5)","v":0},{"$f":"COUNTIF(AO77:AP151,\"<5\")","v":0},null,{"$f":"SUM(AO77:AP151)","v":0},null,{"$f":"SUM(AQ77:AR151)","v":0},0,0,null,"-","-","-","-",null,"-","-","-","-",null,"-","-","-","-",null,"-","-","-","-",null,"-","-","-","-",null,"-","-","-","-",null,null,null,null,null,null,"-","-","-","-",null,"-","-","-","-"]
[null,null,null,null,null,null,null,null,null,null,null,null,null,null,null,null,null,{"$f":"AT75","v":"Växjö Hsk 1"},{"$f":"COUNT(AT77:AW151)/(2)","v":0},0,{"$f":"COUNTIF(AV77:AW151,5)","v":0},{"$f":"COUNTIF(AT77:AU151,5)","v":0},{"$f":"COUNTIF(AT77:AU151,\"<5\")","v":0},null,{"$f":"SUM(AT77:AU151)","v":0},null,{"$f":"SUM(AV77:AW151)","v":0},0,0,null,"-","-","-","-",null,"-","-","-","-",null,"-","-","-","-",null,"-","-","-","-",null,"-","-","-","-",null,"-","-","-","-",null,null,null,null,null,null,"-","-","-","-",null,"-","-","-","-"]
[null,null,null,null,null,null,null,null,null,null,null,null,null,null,null,null,null,{"$f":"AY75","v":"Carlskrona Hsc"},{"$f":"COUNT(AY77:BB151)/(2)","v":0},0,{"$f":"COUNTIF(BA77:BB151,5)","v":0},{"$f":"COUNTIF(AY77:AZ151,5)","v":0},{"$f":"COUNTIF(AY77:AZ151,\"<5\")","v":0},null,{"$f":"SUM(AY77:AZ151)","v":0},null,{"$f":"SUM(BA77:BB151)","v":0},0,0,null,"-","-","-","-",null,"-","-","-","-",null,"-","-","-","-",null,"-","-","-","-",null,"-","-","-","-",null,"-","-","-","-",null,null,null,null,null,null,"-","-","-","-",null,"-","-","-","-"]
[null,null,null,null,null,null,null,null,null,null,null,null,null,null,null,null,null,{"$f":"BD75","v":"Växjö Hsk 2"},{"$f":"COUNT(BD77:BG151)/(2)","v":0},0,{"$f":"COUNTIF(BF77:BG151,5)","v":0},{"$f":"COUNTIF(BD77:BE151,5)","v":0},{"$f":"COUNTIF(BD77:BE151,\"<5\")","v":0},null,{"$f":"SUM(BD77:BE151)","v":0},null,{"$f":"SUM(BF77:BG151)","v":0},0,0,null,"-","-","-","-",null,"-","-","-","-",null,"-","-","-","-",null,"-","-","-","-",null,"-","-","-","-",null,"-","-","-","-",null,null,null,null,null,null,"-","-","-","-",null,"-","-","-","-"]
[null,null,null,null,null,null,null,null,null,null,null,null,null,null,null,null,null,{"$f":"BI75","v":0},{"$f":"COUNT(BI77:BL151)/(2)","v":0},0,{"$f":"COUNTIF(BK77:BL151,5)","v":0},{"$f":"COUNTIF(BI77:BJ151,5)","v":0},{"$f":"COUNTIF(BI77:BJ151,\"<5\")","v":0},null,{"$f":"SUM(BI77:BJ151)","v":0},null,{"$f":"SUM(BK77:BL151)","v":0},0,0,null,"-","-","-","-",null,"-","-","-","-",null,"-","-","-","-",null,"-","-","-","-",null,"-","-","-","-",null,"-","-","-","-",null,null,null,null,null,null,"-","-","-","-",null,"-","-","-","-"]
[null,null,null,null,null,null,null,null,null,null,null,null,null,null,null,null,null,{"$f":"BN75","v":"Värends Hsk 1"},{"$f":"COUNT(BN77:BQ151)/(2)","v":0},0,{"$f":"COUNTIF(BP77:BQ151,5)","v":0},{"$f":"COUNTIF(BN77:BO151,5)","v":0},{"$f":"COUNTIF(BN77:BO151,\"<5\")","v":0},null,{"$f":"SUM(BN77:BO151)","v":0},null,{"$f":"SUM(BP77:BQ151)","v":0},0,0,null,"-","-","-","-",null,"-","-","-","-",null,"-","-","-","-",null,"-","-","-","-",null,"-","-","-","-",null,"-","-","-","-",null,null,null,null,null,null,"-","-","-","-",null,"-","-","-","-"]
[null,null,null,null,null,null,null,null,null,null,null,null,null,null,null,null,null,{"$f":"BS75","v":"Tingsryd Hsc 1"},{"$f":"COUNT(BS77:BV151)/(2)","v":0},0,{"$f":"COUNTIF(BU77:BV151,5)","v":0},{"$f":"COUNTIF(BS77:BT151,5)","v":0},{"$f":"COUNTIF(BS77:BT151,\"<5\")","v":0},null,{"$f":"SUM(BS77:BT151)","v":0},null,{"$f":"SUM(BU77:BV151)","v":0},0,0,null,{"$f":"IF(I12=\"\",\"-\",IF(F12=\"Sibbamåla\",I12,\"-\"))","v":"-"},{"$f":"IF(K12=\"\",\"-\",IF(G12=\"Sibbamåla\",K12,\"-\"))","v":"-"},{"$f":"IF(AE85<7,K12,\"-\")","v":"-"},{"$f":"IF(AF85<7,I12,\"-\")","v":"-"},null,{"$f":"IF(I12=\"\",\"-\",IF(F12=\"Dynapac\",I12,\"-\"))","v":"-"},{"$f":"IF(K12=\"\",\"-\",IF(G12=\"Dynapac\",K12,\"-\"))","v":"-"},{"$f":"IF(AJ85<7,K12,\"-\")","v":"-"},{"$f":"IF(AK85<7,I12,\"-\")","v":"-"},null,{"$f":"IF(I12=\"\",\"-\",IF(F12=\"Korpen Åseda\",I12,\"-\"))","v":"-"},{"$f":"IF(K12=\"\",\"-\",IF(G12=\"Korpen Åseda\",K12,\"-\"))","v":"-"},{"$f":"IF(AO85<7,K12,\"-\")","v":"-"},{"$f":"IF(AP85<7,I12,\"-\")","v":"-"},null,{"$f":"IF(I12=\"\",\"-\",IF(F12=\"växjö hsk 1\",I12,\"-\"))","v":"-"},{"$f":"IF(K12=\"\",\"-\",IF(G12=\"växjö hsk 1\",K12,\"-\"))","v":"-"},{"$f":"IF(AT85<7,K12,\"-\")","v":"-"},{"$f":"IF(AU85<7,I12,\"-\")","v":"-"},null,{"$f":"IF(I12=\"\",\"-\",IF(F12=\"Carlskrona Hsc\",I12,\"-\"))","v":"-"},{"$f":"IF(K12=\"\",\"-\",IF(G12=\"Carlskrona Hsc\",K12,\"-\"))","v":"-"},{"$f":"IF(AY85<7,K12,\"-\")","v":"-"},{"$f":"IF(AZ85<7,I12,\"-\")","v":"-"},null,{"$f":"IF(I12=\"\",\"-\",IF(F12=\"Växjö Hsk 2\",I12,\"-\"))","v":"-"},{"$f":"IF(K12=\"\",\"-\",IF(G12=\"Växjö Hsk 2\",K12,\"-\"))","v":"-"},{"$f":"IF(BD85<7,K12,\"-\")","v":"-"},{"$f":"IF(BE85<7,I12,\"-\")","v":"-"},null,null,null,null,null,null,{"$f":"IF(I12=\"\",\"-\",IF(F12=\"Värends Hsk 1\",I12,\"-\"))","v":"-"},{"$f":"IF(K12=\"\",\"-\",IF(G12=\"Värends Hsk 1\",K12,\"-\"))","v":"-"},{"$f":"IF(BN85<7,K12,\"-\")","v":"-"},{"$f":"IF(BO85<7,I12,\"-\")","v":"-"},null,{"$f":"IF(I12=\"\",\"-\",IF(F12=\"Tingsryd hsc 1\",I12,\"-\"))","v":"-"},{"$f":"IF(K12=\"\",\"-\",IF(G12=\"Tingsryd hsc 1\",K12,\"-\"))","v":"-"},{"$f":"IF(BS85<7,K12,\"-\")","v":"-"},{"$f":"IF(BT85<7,I12,\"-\")","v":"-"}]
[null,null,null,null,null,null,null,null,null,null,null,null,null,null,null,null,null,{"$f":"BX75","v":0},{"$f":"COUNT(BX77:CA151)/(2)","v":0},0,{"$f":"COUNTIF(BZ77:CA151,5)","v":0},{"$f":"COUNTIF(BX77:BY151,5)","v":0},{"$f":"COUNTIF(BX77:BY151,\"<5\")","v":0},null,{"$f":"SUM(BX77:BY151)","v":0},null,{"$f":"SUM(BZ77:CA152)","v":0},0,0,null,{"$f":"IF(I13=\"\",\"-\",IF(F13=\"Sibbamåla\",I13,\"-\"))","v":"-"},{"$f":"IF(K13=\"\",\"-\",IF(G13=\"Sibbamåla\",K13,\"-\"))","v":"-"},{"$f":"IF(AE86<7,K13,\"-\")","v":"-"},{"$f":"IF(AF86<7,I13,\"-\")","v":"-"},null,{"$f":"IF(I13=\"\",\"-\",IF(F13=\"Dynapac\",I13,\"-\"))","v":"-"},{"$f":"IF(K13=\"\",\"-\",IF(G13=\"Dynapac\",K13,\"-\"))","v":"-"},{"$f":"IF(AJ86<7,K13,\"-\")","v":"-"},{"$f":"IF(AK86<7,I13,\"-\")","v":"-"},null,{"$f":"IF(I13=\"\",\"-\",IF(F13=\"Korpen Åseda\",I13,\"-\"))","v":"-"},{"$f":"IF(K13=\"\",\"-\",IF(G13=\"Korpen Åseda\",K13,\"-\"))","v":"-"},{"$f":"IF(AO86<7,K13,\"-\")","v":"-"},{"$f":"IF(AP86<7,I13,\"-\")","v":"-"},null,{"$f":"IF(I13=\"\",\"-\",IF(F13=\"växjö hsk 1\",I13,\"-\"))","v":"-"},{"$f":"IF(K13=\"\",\"-\",IF(G13=\"växjö hsk 1\",K13,\"-\"))","v":"-"},{"$f":"IF(AT86<7,K13,\"-\")","v":"-"},{"$f":"IF(AU86<7,I13,\"-\")","v":"-"},null,{"$f":"IF(I13=\"\",\"-\",IF(F13=\"Carlskrona Hsc\",I13,\"-\"))","v":"-"},{"$f":"IF(K13=\"\",\"-\",IF(G13=\"Carlskrona Hsc\",K13,\"-\"))","v":"-"},{"$f":"IF(AY86<7,K13,\"-\")","v":"-"},{"$f":"IF(AZ86<7,I13,\"-\")","v":"-"},null,{"$f":"IF(I13=\"\",\"-\",IF(F13=\"Växjö Hsk 2\",I13,\"-\"))","v":"-"},{"$f":"IF(K13=\"\",\"-\",IF(G13=\"Växjö Hsk 2\",K13,\"-\"))","v":"-"},{"$f":"IF(BD86<7,K13,\"-\")","v":"-"},{"$f":"IF(BE86<7,I13,\"-\")","v":"-"},null,null,null,null,null,null,{"$f":"IF(I13=\"\",\"-\",IF(F13=\"Värends Hsk 1\",I13,\"-\"))","v":"-"},{"$f":"IF(K13=\"\",\"-\",IF(G13=\"Värends Hsk 1\",K13,\"-\"))","v":"-"},{"$f":"IF(BN86<7,K13,\"-\")","v":"-"},{"$f":"IF(BO86<7,I13,\"-\")","v":"-"},null,{"$f":"IF(I13=\"\",\"-\",IF(F13=\"Tingsryd hsc 1\",I13,\"-\"))","v":"-"},{"$f":"IF(K13=\"\",\"-\",IF(G13=\"Tingsryd hsc 1\",K13,\"-\"))","v":"-"},{"$f":"IF(BS86<7,K13,\"-\")","v":"-"},{"$f":"IF(BT86<7,I13,\"-\")","v":"-"}]
[null,null,null,null,null,null,null,null,null,null,null,null,null,null,null,null,null,null,null,null,null,null,null,null,null,null,null,null,null,null,"-","-","-","-",null,"-","-","-","-",null,"-","-","-","-",null,"-","-","-","-",null,"-","-","-","-",null,"-","-","-","-",null,null,null,null,null,null,"-","-","-","-",null,"-","-","-","-"]
[null,null,null,null,null,null,null,null,null,null,null,null,null,null,null,null,null,null,null,null,null,null,null,null,null,null,null,null,null,null,"-","-","-","-",null,"-","-","-","-",null,"-","-","-","-",null,"-","-","-","-",null,"-","-","-","-",null,"-","-","-","-",null,null,null,null,null,null,"-","-","-","-",null,"-","-","-","-"]
[null,null,null,null,null,null,null,null,null,null,null,null,null,null,null,null,null,null,null,null,null,null,null,null,null,null,null,null,null,null,"-","-","-","-",null,"-","-","-","-",null,"-","-","-","-",null,"-","-","-","-",null,"-","-","-","-",null,"-","-","-","-",null,null,null,null,null,null,"-","-","-","-",null,"-","-","-","-"]
[null,null,null,null,null,null,null,null,null,null,null,null,null,null,null,null,null,null,null,null,null,null,null,null,null,null,null,null,null,null,"-","-","-","-",null,"-","-","-","-",null,"-","-","-","-",null,"-","-","-","-",null,"-","-","-","-",null,"-","-","-","-",null,null,null,null,null,null,"-","-","-","-",null,"-","-","-","-"]
[null,null,null,null,null,null,null,null,null,null,null,null,null,null,null,null,null,null,null,null,null,null,null,null,null,null,null,null,null,null,"-","-","-","-",null,"-","-","-","-",null,"-","-","-","-",null,"-","-","-","-",null,"-","-","-","-",null,"-","-","-","-",null,null,null,null,null,null,"-","-","-","-",null,"-","-","-","-"]
[null,null,null,null,null,null,null,null,null,null,null,null,null,null,null,null,null,null,null,null,null,null,null,null,null,null,null,null,null,null,"-","-","-","-",null,"-","-","-","-",null,"-","-","-","-",null,"-","-","-","-",null,"-","-","-","-",null,"-","-","-","-",null,null,null,null,null,null,"-","-","-","-",null,"-","-","-","-"]
[null,null,null,null,null,null,null,null,null,null,null,null,null,null,null,null,null,null,null,null,null,null,null,null,null,null,null,null,null,null,"-","-","-","-",null,"-","-","-","-",null,"-","-","-","-",null,"-","-","-","-",null,"-","-","-","-",null,"-","-","-","-",null,null,null,null,null,null,"-","-","-","-",null,"-","-","-","-"]
[null,null,null,null,null,null,null,null,null,null,null,null,null,null,null,null,null,null,null,null,null,null,null,null,null,null,null,null,null,null,"-","-","-","-",null,"-","-","-","-",null,"-","-","-","-",null,"-","-","-","-",null,"-","-","-","-",null,"-","-","-","-",null,null,null,null,null,null,"-","-","-","-",null,"-","-","-","-"]
[null,null,null,null,null,null,null,null,null,null,null,null,null,null,null,null,null,null,null,null,null,null,null,null,null,null,null,null,null,null,"-","-","-","-",null,"-","-","-","-",null,"-","-","-","-",null,"-","-","-","-",null,"-","-","-","-",null,"-","-","-","-",null,null,null,null,null,null,"-","-","-","-",null,"-","-","-","-"]
[null,null,null,null,null,null,null,null,null,null,null,null,null,null,null,null,null,null,null,null,null,null,null,null,null,null,null,null,null,null,"-","-","-","-",null,"-","-","-","-",null,"-","-","-","-",null,"-","-","-","-",null,"-","-","-","-",null,"-","-","-","-",null,null,null,null,null,null,"-","-","-","-",null,"-","-","-","-"]
[null,null,null,null,null,null,null,null,null,null,null,null,null,null,null,null,null,null,null,null,null,null,null,null,null,null,null,null,null,null,"-","-","-","-",null,"-","-","-","-",null,"-","-","-","-",null,"-","-","-","-",null,"-","-","-","-",null,"-","-","-","-",null,null,null,null,null,null,"-","-","-","-",null,"-","-","-","-"]
[null,null,null,null,null,null,null,null,null,null,null,null,null,null,null,null,null,null,null,null,null,null,null,null,null,null,null,null,null,null,"-","-","-","-",null,"-","-","-","-",null,"-","-","-","-",null,"-","-","-","-",null,"-","-","-","-",null,"-","-","-","-",null,null,null,null,null,null,"-","-","-","-",null,"-","-","-","-"]
[null,null,null,null,null,null,null,null,null,null,null,null,null,null,null,null,null,null,null,null,null,null,null,null,null,null,null,null,null,null,"-","-","-","-",null,"-","-","-","-",null,"-","-","-","-",null,"-","-","-","-",null,"-","-","-","-",null,"-","-","-","-",null,null,null,null,null,null,"-","-","-","-",null,"-","-","-","-"]
[null,null,null,null,null,null,null,null,null,null,null,null,null,null,null,null,null,null,null,null,null,null,null,null,null,null,null,null,null,null,"-","-","-","-",null,"-","-","-","-",null,"-","-","-","-",null,"-","-","-","-",null,"-","-","-","-",null,"-","-","-","-",null,null,null,null,null,null,"-","-","-","-",null,"-","-","-","-"]
[null,null,null,null,null,null,null,null,null,null,null,null,null,null,null,null,null,null,null,null,null,null,null,null,null,null,null,null,null,null,"-","-","-","-",null,"-","-","-","-",null,"-","-","-","-",null,"-","-","-","-",null,"-","-","-","-",null,"-","-","-","-",null,null,null,null,null,null,"-","-","-","-",null,"-","-","-","-"]
[null,null,null,null,null,null,null,null,null,null,null,null,null,null,null,null,null,null,null,null,null,null,null,null,null,null,null,null,null,null,"-","-","-","-",null,"-","-","-","-",null,"-","-","-","-",null,"-","-","-","-",null,"-","-","-","-",null,"-","-","-","-",null,null,null,null,null,null,"-","-","-","-",null,"-","-","-","-"]
[null,null,null,null,null,null,null,null,null,null,null,null,null,null,null,null,null,null,null,null,null,null,null,null,null,null,null,null,null,null,"-","-","-","-",null,"-","-","-","-",null,"-","-","-","-",null,"-","-","-","-",null,"-","-","-","-",null,"-","-","-","-",null,null,null,null,null,null,"-","-","-","-",null,"-","-","-","-"]
[null,null,null,null,null,null,null,null,null,null,null,null,null,null,null,null,null,null,null,null,null,null,null,null,null,null,null,null,null,null,"-","-","-","-",null,"-","-","-","-",null,"-","-","-","-",null,"-","-","-","-",null,"-","-","-","-",null,"-","-","-","-",null,null,null,null,null,null,"-","-","-","-",null,"-","-","-","-"]
[null,null,null,null,null,null,null,null,null,null,null,null,null,null,null,null,null,null,null,null,null,null,null,null,null,null,null,null,null,null,"-","-","-","-",null,"-","-","-","-",null,"-","-","-","-",null,"-","-","-","-",null,"-","-","-","-",null,"-","-","-","-",null,null,null,null,null,null,"-","-","-","-",null,"-","-","-","-"]
[null,null,null,null,null,null,null,null,null,null,null,null,null,null,null,null,null,null,null,null,null,null,null,null,null,null,null,null,null,null,"-","-","-","-",null,"-","-","-","-",null,"-","-","-","-",null,"-","-","-","-",null,"-","-","-","-",null,"-","-","-","-",null,null,null,null,null,null,"-","-","-","-",null,"-","-","-","-"]
[null,null,null,null,null,null,null,null,null,null,null,null,null,null,null,null,null,null,null,null,null,null,null,null,null,null,null,null,null,null,"-","-","-","-",null,"-","-","-","-",null,"-","-","-","-",null,"-","-","-","-",null,"-","-","-","-",null,"-","-","-","-",null,null,null,null,null,null,"-","-","-","-",null,"-","-","-","-"]
[null,null,null,null,null,null,null,null,null,null,null,null,null,null,null,null,null,null,null,null,null,null,null,null,null,null,null,null,null,null,"-","-","-","-",null,"-","-","-","-",null,"-","-","-","-",null,"-","-","-","-",null,"-","-","-","-",null,"-","-","-","-",null,null,null,null,null,null,"-","-","-","-",null,"-","-","-","-"]
[null,null,null,null,null,null,null,null,null,null,null,null,null,null,null,null,null,null,null,null,null,null,null,null,null,null,null,null,null,null,"-","-","-","-",null,"-","-","-","-",null,"-","-","-","-",null,"-","-","-","-",null,"-","-","-","-",null,"-","-","-","-",null,null,null,null,null,null,"-","-","-","-",null,"-","-","-","-"]
[null,null,null,null,null,null,null,null,null,null,null,null,null,null,null,null,null,null,null,null,null,null,null,null,null,null,null,null,null,null,"-","-","-","-",null,"-","-","-","-",null,"-","-","-","-",null,"-","-","-","-",null,"-","-","-","-",null,"-","-","-","-",null,null,null,null,null,null,"-","-","-","-",null,"-","-","-","-"]
[null,null,null,null,null,null,null,null,null,null,null,null,null,null,null,null,null,null,null,null,null,null,null,null,null,null,null,null,null,null,"-","-","-","-",null,"-","-","-","-",null,"-","-","-","-",null,"-","-","-","-",null,"-","-","-","-",null,"-","-","-","-",null,null,null,null,null,null,"-","-","-","-",null,"-","-","-","-"]
[null,null,null,null,null,null,null,null,null,null,null,null,null,null,null,null,null,null,null,null,null,null,null,null,null,null,null,null,null,null,"-","-","-","-",null,"-","-","-","-",null,"-","-","-","-",null,"-","-","-","-",null,"-","-","-","-",null,"-","-","-","-",null,null,null,null,null,null,"-","-","-","-",null,"-","-","-","-"]
[null,null,null,null,null,null,null,null,null,null,null,null,null,null,null,null,null,null,null,null,null,null,null,null,null,null,null,null,null,null,"-","-","-","-",null,"-","-","-","-",null,"-","-","-","-",null,"-","-","-","-",null,"-","-","-","-",null,"-","-","-","-",null,null,null,null,null,null,"-","-","-","-",null,"-","-","-","-"]
[null,null,null,null,null,null,null,null,null,null,null,null,null,null,null,null,null,null,null,null,null,null,null,null,null,null,null,null,null,null,"-","-","-","-",null,"-","-","-","-",null,"-","-","-","-",null,"-","-","-","-",null,"-","-","-","-",null,"-","-","-","-",null,null,null,null,null,null,"-","-","-","-",null,"-","-","-","-"]
[null,null,null,null,null,null,null,null,null,null,null,null,null,null,null,null,null,null,null,null,null,null,null,null,null,null,null,null,null,null,"-","-","-","-",null,"-","-","-","-",null,"-","-","-","-",null,"-","-","-","-",null,"-","-","-","-",null,"-","-","-","-",null,null,null,null,null,null,"-","-","-","-",null,"-","-","-","-"]
[null,null,null,null,null,null,null,null,null,null,null,null,null,null,null,null,null,null,null,null,null,null,null,null,null,null,null,null,null,null,"-","-","-","-",null,"-","-","-","-",null,"-","-","-","-",null,"-","-","-","-",null,"-","-","-","-",null,"-","-","-","-",null,null,null,null,null,null,"-","-","-","-",null,"-","-","-","-"]
[null,null,null,null,null,null,null,null,null,null,null,null,null,null,null,null,null,null,null,null,null,null,null,null,null,null,null,null,null,null,"-","-","-","-",null,"-","-","-","-",null,"-","-","-","-",null,"-","-","-","-",null,"-","-","-","-",null,"-","-","-","-",null,null,null,null,null,null,"-","-","-","-",null,"-","-","-","-"]
[null,null,null,null,null,null,null,null,null,null,null,null,null,null,null,null,null,null,null,null,null,null,null,null,null,null,null,null,null,null,"-","-","-","-",null,"-","-","-","-",null,"-","-","-","-",null,"-","-","-","-",null,"-","-","-","-",null,"-","-","-","-",null,null,null,null,null,null,"-","-","-","-",null,"-","-","-","-"]
[null,null,null,null,null,null,null,null,null,null,null,null,null,null,null,null,null,null,null,null,null,null,null,null,null,null,null,null,null,null,"-","-","-","-",null,"-","-","-","-",null,"-","-","-","-",null,"-","-","-","-",null,"-","-","-","-",null,"-","-","-","-",null,null,null,null,null,null,"-","-","-","-",null,"-","-","-","-"]
[null,null,null,null,null,null,null,null,null,null,null,null,null,null,null,null,null,null,null,null,null,null,null,null,null,null,null,null,null,null,"-","-","-","-",null,"-","-","-","-",null,"-","-","-","-",null,"-","-","-","-",null,"-","-","-","-",null,"-","-","-","-",null,null,null,null,null,null,"-","-","-","-",null,"-","-","-","-"]
[null,null,null,null,null,null,null,null,null,null,null,null,null,null,null,null,null,null,null,null,null,null,null,null,null,null,null,null,null,null,"-","-","-","-",null,"-","-","-","-",null,"-","-","-","-",null,"-","-","-","-",null,"-","-","-","-",null,"-","-","-","-",null,null,null,null,null,null,"-","-","-","-",null,"-","-","-","-"]
[null,null,null,null,null,null,null,null,null,null,null,null,null,null,null,null,null,null,null,null,null,null,null,null,null,null,null,null,null,null,"-","-","-","-",null,"-","-","-","-",null,"-","-","-","-",null,"-","-","-","-",null,"-","-","-","-",null,"-","-","-","-",null,null,null,null,null,null,"-","-","-","-",null,"-","-","-","-"]
[null,null,null,null,null,null,null,null,null,null,null,null,null,null,null,null,null,null,null,null,null,null,null,null,null,null,null,null,null,null,"-","-","-","-",null,"-","-","-","-",null,"-","-","-","-",null,"-","-","-","-",null,"-","-","-","-",null,"-","-","-","-",null,null,null,null,null,null,"-","-","-","-",null,"-","-","-","-"]
[null,null,null,null,null,null,null,null,null,null,null,null,null,null,null,null,null,null,null,null,null,null,null,null,null,null,null,null,null,null,"-","-","-","-",null,"-","-","-","-",null,"-","-","-","-",null,"-","-","-","-",null,"-","-","-","-",null,"-","-","-","-",null,null,null,null,null,null,"-","-","-","-",null,"-","-","-","-"]
[null,null,null,null,null,null,null,null,null,null,null,null,null,null,null,null,null,null,null,null,null,null,null,null,null,null,null,null,null,null,"-","-","-","-",null,"-","-","-","-",null,"-","-","-","-",null,"-","-","-","-",null,"-","-","-","-",null,"-","-","-","-",null,null,null,null,null,null,"-","-","-","-",null,"-","-","-","-"]
[null,null,null,null,null,null,null,null,null,null,null,null,null,null,null,null,null,null,null,null,null,null,null,null,null,null,null,null,null,null,"-","-","-","-",null,"-","-","-","-",null,"-","-","-","-",null,"-","-","-","-",null,"-","-","-","-",null,"-","-","-","-",null,null,null,null,null,null,"-","-","-","-",null,"-","-","-","-"]
[null,null,null,null,null,null,null,null,null,null,null,null,null,null,null,null,null,null,null,null,null,null,null,null,null,null,null,null,null,null,"-","-","-","-",null,"-","-","-","-",null,"-","-","-","-",null,"-","-","-","-",null,"-","-","-","-",null,"-","-","-","-",null,null,null,null,null,null,"-","-","-","-",null,"-","-","-","-"]
[null,null,null,null,null,null,null,null,null,null,null,null,null,null,null,null,null,null,null,null,null,null,null,null,null,null,null,null,null,null,"-","-","-","-",null,"-","-","-","-",null,"-","-","-","-",null,"-","-","-","-",null,"-","-","-","-",null,"-","-","-","-",null,null,null,null,null,null,"-","-","-","-",null,"-","-","-","-"]
[null,null,null,null,null,null,null,null,null,null,null,null,null,null,null,null,null,null,null,null,null,null,null,null,null,null,null,null,null,null,"-","-","-","-",null,"-","-","-","-",null,"-","-","-","-",null,"-","-","-","-",null,"-","-","-","-",null,"-","-","-","-",null,null,null,null,null,null,"-","-","-","-",null,"-","-","-","-"]
[null,null,null,null,null,null,null,null,null,null,null,null,null,null,null,null,null,null,null,null,null,null,null,null,null,null,null,null,null,null,"-","-","-","-",null,"-","-","-","-",null,"-","-","-","-",null,"-","-","-","-",null,"-","-","-","-",null,"-","-","-","-",null,null,null,null,null,null,"-","-","-","-",null,"-","-","-","-"]
[null,null,null,null,null,null,null,null,null,null,null,null,null,null,null,null,null,null,null,null,null,null,null,null,null,null,null,null,null,null,"-","-","-","-",null,"-","-","-","-",null,"-","-","-","-",null,"-","-","-","-",null,"-","-","-","-",null,"-","-","-","-",null,null,null,null,null,null,"-","-","-","-",null,"-","-","-","-"]
[null,null,null,null,null,null,null,null,null,null,null,null,null,null,null,null,null,null,null,null,null,null,null,null,null,null,null,null,null,null,"-","-","-","-",null,"-","-","-","-",null,"-","-","-","-",null,"-","-","-","-",null,"-","-","-","-",null,"-","-","-","-",null,null,null,null,null,null,"-","-","-","-",null,"-","-","-","-"]
[null,null,null,null,null,null,null,null,null,null,null,null,null,null,null,null,null,null,null,null,null,null,null,null,null,null,null,null,null,null,"-","-","-","-",null,"-","-","-","-",null,"-","-","-","-",null,"-","-","-","-",null,"-","-","-","-",null,"-","-","-","-",null,null,null,null,null,null,"-","-","-","-",null,"-","-","-","-"]
[null,null,null,null,null,null,null,null,null,null,null,null,null,null,null,null,null,null,null,null,null,null,null,null,null,null,null,null,null,null,"-","-","-","-",null,"-","-","-","-",null,"-","-","-","-",null,"-","-","-","-",null,"-","-","-","-",null,"-","-","-","-",null,null,null,null,null,null,"-","-","-","-",null,"-","-","-","-"]
[null,null,null,null,null,null,null,null,null,null,null,null,null,null,null,null,null,null,null,null,null,null,null,null,null,null,null,null,null,null,"-","-","-","-",null,"-","-","-","-",null,"-","-","-","-",null,"-","-","-","-",null,"-","-","-","-",null,"-","-","-","-",null,null,null,null,null,null,"-","-","-","-",null,"-","-","-","-"]
[null,null,null,null,null,null,null,null,null,null,null,null,null,null,null,null,null,null,null,null,null,null,null,null,null,null,null,null,null,null,"-","-","-","-",null,"-","-","-","-",null,"-","-","-","-",null,"-","-","-","-",null,"-","-","-","-",null,"-","-","-","-",null,null,null,null,null,null,"-","-","-","-",null,"-","-","-","-"]
[null,null,null,null,null,null,null,null,null,null,null,null,null,null,null,null,null,null,null,null,null,null,null,null,null,null,null,null,null,null,"-","-","-","-",null,"-","-","-","-",null,"-","-","-","-",null,"-","-","-","-",null,"-","-","-","-",null,"-","-","-","-",null,null,null,null,null,null,"-","-","-","-",null,"-","-","-","-"]
[null,null,null,null,null,null,null,null,null,null,null,null,null,null,null,null,null,null,null,null,null,null,null,null,null,null,null,null,null,null,"-","-","-","-",null,"-","-","-","-",null,"-","-","-","-",null,"-","-","-","-",null,"-","-","-","-",null,"-","-","-","-",null,null,null,null,null,null,"-","-","-","-",null,"-","-","-","-"]
[null,null,null,null,null,null,null,null,null,null,null,null,null,null,null,null,null,null,null,null,null,null,null,null,null,null,null,null,null,null,"-","-","-","-",null,"-","-","-","-",null,"-","-","-","-",null,"-","-","-","-",null,"-","-","-","-",null,"-","-","-","-",null,null,null,null,null,null,"-","-","-","-",null,"-","-","-","-"]
[null,null,null,null,null,null,null,null,null,null,null,null,null,null,null,null,null,null,null,null,null,null,null,null,null,null,null,null,null,null,"-","-","-","-",null,"-","-","-","-",null,"-","-","-","-",null,"-","-","-","-",null,"-","-","-","-",null,"-","-","-","-",null,null,null,null,null,null,"-","-","-","-",null,"-","-","-","-"]
[null,null,null,null,null,null,null,null,null,null,null,null,null,null,null,null,null,null,null,null,null,null,null,null,null,null,null,null,null,null,"-","-","-","-",null,"-","-","-","-",null,"-","-","-","-",null,"-","-","-","-",null,"-","-","-","-",null,"-","-","-","-",null,null,null,null,null,null,"-","-","-","-",null,"-","-","-","-"]

{"sheet":"Spelprogram Div 2","index":1,"n_rows":163,"n_cols":74,"rows_kept":163,"cut":false,"hidden":false,"merged":[]}
[null,null,null,null,null,"2019 / 2020","OBS!! Att Vaxholms seriematcher spelas via tekniska hjälpmedel, förutom den första"]
[null,null,null,null,null,"Division 2","och sista seriespelsomgången, då de är på plats."]
["MatchNR:","Datum","Arrangör","Kl.","Bana","Hemmalag","Bortalag"]
[9,"2019-09-28","Karlskrona","10:00:00",5,"Lanternan 1","Tingsryd Hsc 2",null,null,":"]
[10,"Omg 1",null,"10:00:00",6,"Lanternan 2","Vaxholm Hsk",null,null,":"]
[11,null,null,"10:00:00",7,"Jämjö Hsk 1","Korpen Nybro",null,null,":"]
[12,null,null,"10:00:00",8,"Jämjö Hsk 2","Värends Hsk 2",null,null,":"]
[13,null,null,"12:00:00",5,"Korpen Nybro","Jämjö Hsk 2",null,null,":"]
[14,null,null,"12:00:00",6,"Värends Hsk 2","Jämjö Hsk 1",null,null,":"]
[15,null,null,"12:00:00",7,"Vaxholm Hsk","Lanternan 1",null,null,":"]
[16,null,null,"12:00:00",8,"Lanternan 2","Tingsryd Hsc 2",null,null,":"]
[]
[25,"2019-10-12","Tingsryd","10:00:00",1,"Tingsryd Hsc 2","Vaxholm Hsk",null,null,":"]
[26,"Omg 2",null,"10:00:00",2,"Värends Hsk 2","Korpen Nybro",null,null,":"]
[27,null,null,"12:00:00",1,"Vaxholm Hsk","Värends Hsk 2",null,null,":"]
[28,null,null,"12:00:00",2,"Tingsryd Hsc 2","Korpen Nybro",null,null,":"]
[]
[29,"V 41-42","Karlskrona",null,1,"Jämjö Hsk 1","Jämjö Hsk 2",null,null,":"]
[30,"Omg 2",null,null,2,"Lanternan 1","Lanternan 2",null,null,":"]
[31,null,null,null,1,"Jämjö Hsk 2","Lanternan 2",null,null,":"]
[32,null,null,null,2,"Lanternan 1","Jämjö Hsk 1",null,null,":"]
[]
[41,"2019-11-23","Nybro","10:00:00",1,"Lanternan 1","Värends Hsk 2",null,null,":"]
[42,"Omg 3",null,"10:00:00",2,"Tingsryd Hsc 2","Jämjö Hsk 2",null,null,":"]
[43,null,null,"10:00:00",3,"Jämjö Hsk 1","Vaxholm Hsk",null,null,":"]
[44,null,null,"10:00:00",4,"Korpen Nybro","Lanternan 2",null,null,":"]
[45,null,null,"12:00:00",1,"Jämjö Hsk 1","Tingsryd Hsc 2",null,null,":"]
[46,null,null,"12:00:00",2,"Värends Hsk 2","Lanternan 2",null,null,":"]
[47,null,null,"12:00:00",3,"Korpen Nybro","Lanternan 1",null,null,":"]
[48,null,null,"12:00:00",4,"Vaxholm Hsk","Jämjö Hsk 2",null,null,":"]
[]
[57,"2019-01-18","Tingsryd","10:00:00",1,"Vaxholm Hsk","Korpen Nybro",null,null,":"]
[58,"Omg 4",null,"10:00:00",2,"Värends Hsk 2","Tingsryd Hsc 2",null,null,":"]
[59,null,null,"12:00:00",1,"Vaxholm Hsk","Tingsryd Hsc 2",null,null,":"]
[60,null,null,"12:00:00",2,"Korpen Nybro","Värends Hsk 2",null,null,":"]
[]
[61,"2019-01-18","Karlskrona","10:00:00",3,"Lanternan 2","Jämjö Hsk 1",null,null,":"]
[62,"Omg 4",null,"10:00:00",4,"Jämjö Hsk 2","Lanternan 1",null,null,":"]
[63,null,null,"12:00:00",3,"Jämjö Hsk 2","Jämjö Hsk 1",null,null,":"]
[64,null,null,"12:00:00",4,"Lanternan 2","Lanternan 1",null,null,":"]
[]
[73,"2019-02-15","Karlskrona","10:00:00",1,"Tingsryd Hsc 2","Lanternan 1",null,null,":"]
[74,"Omg 5",null,"10:00:00",2,"Vaxholm Hsk","Lanternan 2",null,null,":"]
[75,null,null,"10:00:00",3,"Korpen Nybro","Jämjö Hsk 1",null,null,":"]
[76,null,null,"10:00:00",4,"Värends Hsk 2","Jämjö Hsk 2",null,null,":"]
[77,null,null,"12:00:00",1,"Lanternan 2","Värends Hsk 2",null,null,":"]
[78,null,null,"12:00:00",2,"Tingsryd Hsc 2","Jämjö Hsk 1",null,null,":"]
[79,null,null,"12:00:00",3,"Lanternan 1","Vaxholm Hsk",null,null,":"]
[80,null,null,"12:00:00",4,"Jämjö Hsk 2","Korpen Nybro",null,null,":"]
[]
[89,"2019-03-07","Nybro","10:00:00",1,"Värends Hsk 2","Vaxholm Hsk",null,null,":"]
[90,"Omg 6",null,"10:00:00",2,"Korpen Nybro","Tingsryd Hsc 2",null,null,":"]
[91,null,null,"12:00:00",1,"Korpen Nybro","Vaxholm Hsk",null,null,":"]
[92,null,null,"12:00:00",2,"Tingsryd Hsc 2","Värends Hsk 2",null,null,":"]
[]
[93,"2019-03-07","Karlskrona","10:00:00",5,"Lanternan 2","Jämjö Hsk 2",null,null,":"]
[94,"Omg 6",null,"10:00:00",6,"Jämjö Hsk 1","Lanternan 1",null,null,":"]
[95,null,null,"12:00:00",5,"Lanternan 1","Jämjö Hsk 2",null,null,":"]
[96,null,null,"12:00:00",6,"Jämjö Hsk 1","Lanternan 2",null,null,":"]
[]
[105,"2019-03-29","Värend","10:00:00",5,"Värends Hsk 2","Lanternan 1",null,null,":"]
[106,"OBS!!! Söndag",null,"10:00:00",6,"Jämjö Hsk 2","Tingsryd Hsc 2",null,null,":"]
[107,"Omg 7",null,"10:00:00",7,"Vaxholm Hsk","Jämjö Hsk 1",null,null,":"]
[108,null,null,"10:00:00",8,"Lanternan 2","Korpen Nybro",null,null,":"]
[109,null,null,"12:00:00",5,"Tingsryd Hsc 2","Lanternan 2",null,null,":"]
[110,null,null,"12:00:00",6,"Jämjö Hsk 1","Värends Hsk 2",null,null,":"]
[111,null,null,"12:00:00",7,"Lanternan 1","Korpen Nybro",null,null,":"]
[112,null,null,"12:00:00",8,"Jämjö Hsk 2","Vaxholm Hsk",null,null,":"]
[]
["OBS!!!!"]
["Arrangör skickar in matchresultat via SMS till Tomas Lindahl direkt efter avslutade matcher "]
["Tel. 073-4004693 skriv matchnummer enligt spelprogram följt av resultatet i matchen."]
["Matchprotokollet skickas till Gert Karlsson via e-post:  gert.karlsson@svhkf.se "]
["för uppdatering av rankingtabell."]
[null,null,null,null,null,null,null,null,null,null,null,null,null,null,null,null,null,null,null,null,null,null,null,null,null,null,null,null,null,null,"Lanternan 2",null,null,null,null,"Jämjö Hsk 1",null,null,null,null,"Jämjö Hsk 2",null,null,null,null,"Vaxholm Hsk",null,null,null,null,"Korpen Nybro",null,null,null,null,null,null,null,null,null,"Värends Hsk 2",null,null,null,null,"Lanternan 1",null,null,null,null,"Tingsryd Hsc 2"]
[null,null,null,null,null,null,null,null,null,null,null,null,null,null,null,null,null,null,"Sp.m","3p","2p","1p","0p",null,null,"Matchkvot",null,null,"Poäng"]
[null,null,null,null,null,null,null,null,null,null,null,null,null,null,null,null,null,{"$f":"AE75","v":"Lanternan 2"},{"$f":"COUNT(AE77:AH163)/(2)","v":0},{"$f":"SUM(S77,-U77,-V77,-W77)","v":0},{"$f":"COUNTIF(AG77:AH163,5)","v":0},{"$f":"COUNTIF(AE77:AF163,5)","v":0},{"$f":"COUNTIF(AE77:AF163,\"<5\")","v":0},null,{"$f":"SUM(AE77:AF163)","v":0},":",{"$f":"SUM(AG77:AH163)","v":0},{"$f":"Y77-AA77","v":0},{"$f":"SUM(T77*3)+(U77*2)+(V77*1)","v":0},null,{"$f":"IF(I4=\"\",\"-\",IF(F4=\"lanternan 2\",I4,\"-\"))","v":"-"},{"$f":"IF(K4=\"\",\"-\",IF(G4=\"lanternan 2\",K4,\"-\"))","v":"-"},{"$f":"IF(AE77<7,K4,\"-\")","v":"-"},{"$f":"IF(AF77<7,I4,\"-\")","v":"-"},null,{"$f":"IF(I4=\"\",\"-\",IF(F4=\"Jämjö Hsk 1\",I4,\"-\"))","v":"-"},{"$f":"IF(K4=\"\",\"-\",IF(G4=\"Jämjö Hsk 1\",K4,\"-\"))","v":"-"},{"$f":"IF(AJ77<7,K4,\"-\")","v":"-"},{"$f":"IF(AK77<7,I4,\"-\")","v":"-"},null,{"$f":"IF(I4=\"\",\"-\",IF(F4=\"Jämjö Hsk 2\",I4,\"-\"))","v":"-"},{"$f":"IF(K4=\"\",\"-\",IF(G4=\"Jämjö Hsk 2\",K4,\"-\"))","v":"-"},{"$f":"IF(AO77<7,K4,\"-\")","v":"-"},{"$f":"IF(AP77<7,I4,\"-\")","v":"-"},null,{"$f":"IF(I4=\"\",\"-\",IF(F4=\"Vaxholm Hsk\",I4,\"-\"))","v":"-"},{"$f":"IF(K4=\"\",\"-\",IF(G4=\"Vaxholm Hsk\",K4,\"-\"))","v":"-"},{"$f":"IF(AT77<7,K4,\"-\")","v":"-"},{"$f":"IF(AU77<7,I4,\"-\")","v":"-"},null,{"$f":"IF(I4=\"\",\"-\",IF(F4=\"Korpen Nybro\",I4,\"-\"))","v":"-"},{"$f":"IF(K4=\"\",\"-\",IF(G4=\"Korpen Nybro\",K4,\"-\"))","v":"-"},{"$f":"IF(AY77<7,K4,\"-\")","v":"-"},{"$f":"IF(AZ77<7,I4,\"-\")","v":"-"},null,null,null,null,null,null,{"$f":"IF(I4=\"\",\"-\",IF(F4=\"Värends Hsk 2\",I4,\"-\"))","v":"-"},{"$f":"IF(K4=\"\",\"-\",IF(G4=\"Värends Hsk 2\",K4,\"-\"))","v":"-"},{"$f":"IF(BI77<7,K4,\"-\")","v":"-"},{"$f":"IF(BJ77<7,I4,\"-\")","v":"-"},null,{"$f":"IF(I4=\"\",\"-\",IF(F4=\"Lanternan 1\",I4,\"-\"))","v":"-"},{"$f":"IF(K4=\"\",\"-\",IF(G4=\"Lanternan 1\",K4,\"-\"))","v":"-"},{"$f":"IF(BN77<7,K4,\"-\")","v":"-"},{"$f":"IF(BO77<7,I4,\"-\")","v":"-"},null,{"$f":"IF(I4=\"\",\"-\",IF(F4=\"Tingsryd Hsc 2\",I4,\"-\"))","v":"-"},{"$f":"IF(K4=\"\",\"-\",IF(G4=\"Tingsryd Hsc 2\",K4,\"-\"))","v":"-"},{"$f":"IF(BS77<7,K4,\"-\")","v":"-"},{"$f":"IF(BT77<7,I4,\"-\")","v":"-"}]
[null,null,null,null,null,null,null,null,null,null,null,null,null,null,null,null,null,{"$f":"AJ75","v":"Jämjö Hsk 1"},{"$f":"COUNT(AJ77:AM163)/(2)","v":0},0,{"$f":"COUNTIF(AL77:AM163,5)","v":0},{"$f":"COUNTIF(AJ77:AK163,5)","v":0},{"$f":"COUNTIF(AJ77:AK163,\"<5\")","v":0},null,{"$f":"SUM(AJ77:AK163)","v":0},":",{"$f":"SUM(AL77:AM163)","v":0},0,0,null,"-","-","-","-",null,"-","-","-","-",null,"-","-","-","-",null,"-","-","-","-",null,"-","-","-","-",null,null,null,null,null,null,"-","-","-","-",null,"-","-","-","-",null,"-","-","-","-"]
[null,null,null,null,null,null,null,null,null,null,null,null,null,null,null,null,null,{"$f":"AO75","v":"Jämjö Hsk 2"},{"$f":"COUNT(AO77:AR163)/(2)","v":0},0,{"$f":"COUNTIF(AQ77:AR163,5)","v":0},{"$f":"COUNTIF(AO77:AP163,5)","v":0},{"$f":"COUNTIF(AO77:AP163,\"<5\")","v":0},null,{"$f":"SUM(AO77:AP163)","v":0},":",{"$f":"SUM(AQ77:AR183)","v":0},0,{"$f":"SUM(T79*3)+(U79*2)+(V79*1)","v":0},null,"-","-","-","-",null,"-","-","-","-",null,"-","-","-","-",null,"-","-","-","-",null,"-","-","-","-",null,null,null,null,null,null,"-","-","-","-",null,"-","-","-","-",null,"-","-","-","-"]
[null,null,null,null,null,null,null,null,null,null,null,null,null,null,null,null,null,{"$f":"AT75","v":"Vaxholm Hsk"},{"$f":"COUNT(AT77:AW163)/(2)","v":0},0,{"$f":"COUNTIF(AV77:AW163,5)","v":0},{"$f":"COUNTIF(AT77:AU163,5)","v":0},{"$f":"COUNTIF(AT77:AU163,\"<5\")","v":0},null,{"$f":"SUM(AT77:AU163)","v":0},":",{"$f":"SUM(AV77:AW183)","v":0},0,{"$f":"SUM(T80*3)+(U80*2)+(V80*1)","v":0},null,"-","-","-","-",null,"-","-","-","-",null,"-","-","-","-",null,"-","-","-","-",null,"-","-","-","-",null,null,null,null,null,null,"-","-","-","-",null,"-","-","-","-",null,"-","-","-","-"]
[null,null,null,null,null,null,null,null,null,null,null,null,null,null,null,null,null,{"$f":"AY75","v":"Korpen Nybro"},{"$f":"COUNT(AY77:BB163)/(2)","v":0},0,{"$f":"COUNTIF(BA77:BB163,5)","v":0},{"$f":"COUNTIF(AY77:AZ163,5)","v":0},{"$f":"COUNTIF(AY77:AZ163,\"<5\")","v":0},null,{"$f":"SUM(AY77:AZ163)","v":0},":",{"$f":"SUM(BA77:BB163)","v":0},0,0,null,"-","-","-","-",null,"-","-","-","-",null,"-","-","-","-",null,"-","-","-","-",null,"-","-","-","-",null,null,null,null,null,null,"-","-","-","-",null,"-","-","-","-",null,"-","-","-","-"]
[null,null,null,null,null,null,null,null,null,null,null,null,null,null,null,null,null,{"$f":"BD75","v":0},{"$f":"COUNT(BD77:BG163)/(2)","v":0},0,{"$f":"COUNTIF(BF77:BG163,5)","v":0},{"$f":"COUNTIF(BD77:BE163,5)","v":0},{"$f":"COUNTIF(BD77:BE163,\"<5\")","v":0},null,{"$f":"SUM(BD77:BE163)","v":0},":",{"$f":"SUM(BF77:BG163)","v":0},0,{"$f":"SUM(T82*3)+(U82*2)+(V82*1)+(-1)","v":-1},null,"-","-","-","-",null,"-","-","-","-",null,"-","-","-","-",null,"-","-","-","-",null,"-","-","-","-",null,null,null,null,null,null,"-","-","-","-",null,"-","-","-","-",null,"-","-","-","-"]
[null,null,null,null,null,null,null,null,null,null,null,null,null,null,null,null,null,{"$f":"BI75","v":"Värends Hsk 2"},{"$f":"COUNT(BI77:BL163)/(2)","v":0},0,{"$f":"COUNTIF(BK77:BL163,5)","v":0},{"$f":"COUNTIF(BI77:BJ163,5)","v":0},{"$f":"COUNTIF(BI77:BJ163,\"<5\")","v":0},null,{"$f":"SUM(BI77:BJ163)","v":0},":",{"$f":"SUM(BK77:BL163)","v":0},0,0,null,"-","-","-","-",null,"-","-","-","-",null,"-","-","-","-",null,"-","-","-","-",null,"-","-","-","-",null,null,null,null,null,null,"-","-","-","-",null,"-","-","-","-",null,"-","-","-","-"]
[null,null,null,null,null,null,null,null,null,null,null,null,null,null,null,null,null,{"$f":"BN75","v":"Lanternan 1"},{"$f":"COUNT(BN77:BQ163)/(2)","v":0},0,{"$f":"COUNTIF(BP77:BQ163,5)","v":0},{"$f":"COUNTIF(BN77:BO163,5)","v":0},{"$f":"COUNTIF(BN77:BO163,\"<5\")","v":0},null,{"$f":"SUM(BN77:BO163)","v":0},":",{"$f":"SUM(BP77:BQ163)","v":0},0,0,null,"-","-","-","-",null,"-","-","-","-",null,"-","-","-","-",null,"-","-","-","-",null,"-","-","-","-",null,null,null,null,null,null,"-","-","-","-",null,"-","-","-","-",null,"-","-","-","-"]
[null,null,null,null,null,null,null,null,null,null,null,null,null,null,null,null,null,{"$f":"BS75","v":"Tingsryd Hsc 2"},{"$f":"COUNT(BS77:BV163)/(2)","v":0},0,{"$f":"COUNTIF(BU77:BV163,5)","v":0},{"$f":"COUNTIF(BS77:BT163,5)","v":0},{"$f":"COUNTIF(BS77:BT163,\"<5\")","v":0},null,{"$f":"SUM(BS77:BT163)","v":0},":",{"$f":"SUM(BU77:BV163)","v":0},0,0,null,{"$f":"IF(I12=\"\",\"-\",IF(F12=\"lanternan 2\",I12,\"-\"))","v":"-"},{"$f":"IF(K12=\"\",\"-\",IF(G12=\"lanternan 2\",K12,\"-\"))","v":"-"},{"$f":"IF(AE85<7,K12,\"-\")","v":"-"},{"$f":"IF(AF85<7,I12,\"-\")","v":"-"},null,{"$f":"IF(I12=\"\",\"-\",IF(F12=\"Jämjö Hsk 1\",I12,\"-\"))","v":"-"},{"$f":"IF(K12=\"\",\"-\",IF(G12=\"Jämjö Hsk 1\",K12,\"-\"))","v":"-"},{"$f":"IF(AJ85<7,K12,\"-\")","v":"-"},{"$f":"IF(AK85<7,I12,\"-\")","v":"-"},null,{"$f":"IF(I12=\"\",\"-\",IF(F12=\"Jämjö Hsk 2\",I12,\"-\"))","v":"-"},{"$f":"IF(K12=\"\",\"-\",IF(G12=\"Jämjö Hsk 2\",K12,\"-\"))","v":"-"},{"$f":"IF(AO85<7,K12,\"-\")","v":"-"},{"$f":"IF(AP85<7,I12,\"-\")","v":"-"},null,{"$f":"IF(I12=\"\",\"-\",IF(F12=\"Vaxholm Hsk\",I12,\"-\"))","v":"-"},{"$f":"IF(K12=\"\",\"-\",IF(G12=\"Vaxholm Hsk\",K12,\"-\"))","v":"-"},{"$f":"IF(AT85<7,K12,\"-\")","v":"-"},{"$f":"IF(AU85<7,I12,\"-\")","v":"-"},null,{"$f":"IF(I12=\"\",\"-\",IF(F12=\"Korpen Nybro\",I12,\"-\"))","v":"-"},{"$f":"IF(K12=\"\",\"-\",IF(G12=\"Korpen Nybro\",K12,\"-\"))","v":"-"},{"$f":"IF(AY85<7,K12,\"-\")","v":"-"},{"$f":"IF(AZ85<7,I12,\"-\")","v":"-"},null,null,null,null,null,null,{"$f":"IF(I12=\"\",\"-\",IF(F12=\"Värends Hsk 2\",I12,\"-\"))","v":"-"},{"$f":"IF(K12=\"\",\"-\",IF(G12=\"Värends Hsk 2\",K12,\"-\"))","v":"-"},{"$f":"IF(BI85<7,K12,\"-\")","v":"-"},{"$f":"IF(BJ85<7,I12,\"-\")","v":"-"},null,{"$f":"IF(I12=\"\",\"-\",IF(F12=\"Lanternan 1\",I12,\"-\"))","v":"-"},{"$f":"IF(K12=\"\",\"-\",IF(G12=\"Lanternan 1\",K12,\"-\"))","v":"-"},{"$f":"IF(BN85<7,K12,\"-\")","v":"-"},{"$f":"IF(BO85<7,I12,\"-\")","v":"-"},null,{"$f":"IF(I12=\"\",\"-\",IF(F12=\"Tingsryd Hsc 2\",I12,\"-\"))","v":"-"},{"$f":"IF(K12=\"\",\"-\",IF(G12=\"Tingsryd Hsc 2\",K12,\"-\"))","v":"-"},{"$f":"IF(BS85<7,K12,\"-\")","v":"-"},{"$f":"IF(BT85<7,I12,\"-\")","v":"-"}]
[null,null,null,null,null,null,null,null,null,null,null,null,null,null,null,null,null,{"$f":"BX75","v":0},{"$f":"COUNT(BX77:CA163)/(2)","v":0},0,{"$f":"COUNTIF(BZ77:CA163,5)","v":0},{"$f":"COUNTIF(BX77:BY163,5)","v":0},{"$f":"COUNTIF(BX77:BY163,\"<5\")","v":0},null,{"$f":"SUM(BX77:BY163)","v":0},":",{"$f":"SUM(BZ77:CA163)","v":0},0,0,null,{"$f":"IF(I13=\"\",\"-\",IF(F13=\"lanternan 2\",I13,\"-\"))","v":"-"},{"$f":"IF(K13=\"\",\"-\",IF(G13=\"lanternan 2\",K13,\"-\"))","v":"-"},{"$f":"IF(AE86<7,K13,\"-\")","v":"-"},{"$f":"IF(AF86<7,I13,\"-\")","v":"-"},null,{"$f":"IF(I13=\"\",\"-\",IF(F13=\"Jämjö Hsk 1\",I13,\"-\"))","v":"-"},{"$f":"IF(K13=\"\",\"-\",IF(G13=\"Jämjö Hsk 1\",K13,\"-\"))","v":"-"},{"$f":"IF(AJ86<7,K13,\"-\")","v":"-"},{"$f":"IF(AK86<7,I13,\"-\")","v":"-"},null,{"$f":"IF(I13=\"\",\"-\",IF(F13=\"Jämjö Hsk 2\",I13,\"-\"))","v":"-"},{"$f":"IF(K13=\"\",\"-\",IF(G13=\"Jämjö Hsk 2\",K13,\"-\"))","v":"-"},{"$f":"IF(AO86<7,K13,\"-\")","v":"-"},{"$f":"IF(AP86<7,I13,\"-\")","v":"-"},null,{"$f":"IF(I13=\"\",\"-\",IF(F13=\"Vaxholm Hsk\",I13,\"-\"))","v":"-"},{"$f":"IF(K13=\"\",\"-\",IF(G13=\"Vaxholm Hsk\",K13,\"-\"))","v":"-"},{"$f":"IF(AT86<7,K13,\"-\")","v":"-"},{"$f":"IF(AU86<7,I13,\"-\")","v":"-"},null,{"$f":"IF(I13=\"\",\"-\",IF(F13=\"Korpen Nybro\",I13,\"-\"))","v":"-"},{"$f":"IF(K13=\"\",\"-\",IF(G13=\"Korpen Nybro\",K13,\"-\"))","v":"-"},{"$f":"IF(AY86<7,K13,\"-\")","v":"-"},{"$f":"IF(AZ86<7,I13,\"-\")","v":"-"},null,null,null,null,null,null,{"$f":"IF(I13=\"\",\"-\",IF(F13=\"Värends Hsk 2\",I13,\"-\"))","v":"-"},{"$f":"IF(K13=\"\",\"-\",IF(G13=\"Värends Hsk 2\",K13,\"-\"))","v":"-"},{"$f":"IF(BI86<7,K13,\"-\")","v":"-"},{"$f":"IF(BJ86<7,I13,\"-\")","v":"-"},null,{"$f":"IF(I13=\"\",\"-\",IF(F13=\"Lanternan 1\",I13,\"-\"))","v":"-"},{"$f":"IF(K13=\"\",\"-\",IF(G13=\"Lanternan 1\",K13,\"-\"))","v":"-"},{"$f":"IF(BN86<7,K13,\"-\")","v":"-"},{"$f":"IF(BO86<7,I13,\"-\")","v":"-"},null,{"$f":"IF(I13=\"\",\"-\",IF(F13=\"Tingsryd Hsc 2\",I13,\"-\"))","v":"-"},{"$f":"IF(K13=\"\",\"-\",IF(G13=\"Tingsryd Hsc 2\",K13,\"-\"))","v":"-"},{"$f":"IF(BS86<7,K13,\"-\")","v":"-"},{"$f":"IF(BT86<7,I13,\"-\")","v":"-"}]
[null,null,null,null,null,null,null,null,null,null,null,null,null,null,null,null,null,null,null,null,null,null,null,null,null,null,null,null,null,null,"-","-","-","-",null,"-","-","-","-",null,"-","-","-","-",null,"-","-","-","-",null,"-","-","-","-",null,null,null,null,null,null,"-","-","-","-",null,"-","-","-","-",null,"-","-","-","-"]
[null,null,null,null,null,null,null,null,null,null,null,null,null,null,null,null,null,null,null,null,null,null,null,null,null,null,null,null,null,null,"-","-","-","-",null,"-","-","-","-",null,"-","-","-","-",null,"-","-","-","-",null,"-","-","-","-",null,null,null,null,null,null,"-","-","-","-",null,"-","-","-","-",null,"-","-","-","-"]
[null,null,null,null,null,null,null,null,null,null,null,null,null,null,null,null,null,null,null,null,null,null,null,null,null,null,null,null,null,null,"-","-","-","-",null,"-","-","-","-",null,"-","-","-","-",null,"-","-","-","-",null,"-","-","-","-",null,null,null,null,null,null,"-","-","-","-",null,"-","-","-","-",null,"-","-","-","-"]
[null,null,null,null,null,null,null,null,null,null,null,null,null,null,null,null,null,null,null,null,null,null,null,null,null,null,null,null,null,null,"-","-","-","-",null,"-","-","-","-",null,"-","-","-","-",null,"-","-","-","-",null,"-","-","-","-",null,null,null,null,null,null,"-","-","-","-",null,"-","-","-","-",null,"-","-","-","-"]
[null,null,null,null,null,null,null,null,null,null,null,null,null,null,null,null,null,null,null,null,null,null,null,null,null,null,null,null,null,null,"-","-","-","-",null,"-","-","-","-",null,"-","-","-","-",null,"-","-","-","-",null,"-","-","-","-",null,null,null,null,null,null,"-","-","-","-",null,"-","-","-","-",null,"-","-","-","-"]
[null,null,null,null,null,null,null,null,null,null,null,null,null,null,null,null,null,null,null,null,null,null,null,null,null,null,null,null,null,null,"-","-","-","-",null,"-","-","-","-",null,"-","-","-","-",null,"-","-","-","-",null,"-","-","-","-",null,null,null,null,null,null,"-","-","-","-",null,"-","-","-","-",null,"-","-","-","-"]
[null,null,null,null,null,null,null,null,null,null,null,null,null,null,null,null,null,null,null,null,null,null,null,null,null,null,null,null,null,null,"-","-","-","-",null,"-","-","-","-",null,"-","-","-","-",null,"-","-","-","-",null,"-","-","-","-",null,null,null,null,null,null,"-","-","-","-",null,"-","-","-","-",null,"-","-","-","-"]
[null,null,null,null,null,null,null,null,null,null,null,null,null,null,null,null,null,null,null,null,null,null,null,null,null,null,null,null,null,null,"-","-","-","-",null,"-","-","-","-",null,"-","-","-","-",null,"-","-","-","-",null,"-","-","-","-",null,null,null,null,null,null,"-","-","-","-",null,"-","-","-","-",null,"-","-","-","-"]
[null,null,null,null,null,null,null,null,null,null,null,null,null,null,null,null,null,null,null,null,null,null,null,null,null,null,null,null,null,null,"-","-","-","-",null,"-","-","-","-",null,"-","-","-","-",null,"-","-","-","-",null,"-","-","-","-",null,null,null,null,null,null,"-","-","-","-",null,"-","-","-","-",null,"-","-","-","-"]
[null,null,null,null,null,null,null,null,null,null,null,null,null,null,null,null,null,null,null,null,null,null,null,null,null,null,null,null,null,null,"-","-","-","-",null,"-","-","-","-",null,"-","-","-","-",null,"-","-","-","-",null,"-","-","-","-",null,null,null,null,null,null,"-","-","-","-",null,"-","-","-","-",null,"-","-","-","-"]
[null,null,null,null,null,null,null,null,null,null,null,null,null,null,null,null,null,null,null,null,null,null,null,null,null,null,null,null,null,null,"-","-","-","-",null,"-","-","-","-",null,"-","-","-","-",null,"-","-","-","-",null,"-","-","-","-",null,null,null,null,null,null,"-","-","-","-",null,"-","-","-","-",null,"-","-","-","-"]
[null,null,null,null,null,null,null,null,null,null,null,null,null,null,null,null,null,null,null,null,null,null,null,null,null,null,null,null,null,null,"-","-","-","-",null,"-","-","-","-",null,"-","-","-","-",null,"-","-","-","-",null,"-","-","-","-",null,null,null,null,null,null,"-","-","-","-",null,"-","-","-","-",null,"-","-","-","-"]
[null,null,null,null,null,null,null,null,null,null,null,null,null,null,null,null,null,null,null,null,null,null,null,null,null,null,null,null,null,null,"-","-","-","-",null,"-","-","-","-",null,"-","-","-","-",null,"-","-","-","-",null,"-","-","-","-",null,null,null,null,null,null,"-","-","-","-",null,"-","-","-","-",null,"-","-","-","-"]
[null,null,null,null,null,null,null,null,null,null,null,null,null,null,null,null,null,null,null,null,null,null,null,null,null,null,null,null,null,null,"-","-","-","-",null,"-","-","-","-",null,"-","-","-","-",null,"-","-","-","-",null,"-","-","-","-",null,null,null,null,null,null,"-","-","-","-",null,"-","-","-","-",null,"-","-","-","-"]
[null,null,null,null,null,null,null,null,null,null,null,null,null,null,null,null,null,null,null,null,null,null,null,null,null,null,null,null,null,null,"-","-","-","-",null,"-","-","-","-",null,"-","-","-","-",null,"-","-","-","-",null,"-","-","-","-",null,null,null,null,null,null,"-","-","-","-",null,"-","-","-","-",null,"-","-","-","-"]
[null,null,null,null,null,null,null,null,null,null,null,null,null,null,null,null,null,null,null,null,null,null,null,null,null,null,null,null,null,null,"-","-","-","-",null,"-","-","-","-",null,"-","-","-","-",null,"-","-","-","-",null,"-","-","-","-",null,null,null,null,null,null,"-","-","-","-",null,"-","-","-","-",null,"-","-","-","-"]
[null,null,null,null,null,null,null,null,null,null,null,null,null,null,null,null,null,null,null,null,null,null,null,null,null,null,null,null,null,null,"-","-","-","-",null,"-","-","-","-",null,"-","-","-","-",null,"-","-","-","-",null,"-","-","-","-",null,null,null,null,null,null,"-","-","-","-",null,"-","-","-","-",null,"-","-","-","-"]
[null,null,null,null,null,null,null,null,null,null,null,null,null,null,null,null,null,null,null,null,null,null,null,null,null,null,null,null,null,null,"-","-","-","-",null,"-","-","-","-",null,"-","-","-","-",null,"-","-","-","-",null,"-","-","-","-",null,null,null,null,null,null,"-","-","-","-",null,"-","-","-","-",null,"-","-","-","-"]
[null,null,null,null,null,null,null,null,null,null,null,null,null,null,null,null,null,null,null,null,null,null,null,null,null,null,null,null,null,null,"-","-","-","-",null,"-","-","-","-",null,"-","-","-","-",null,"-","-","-","-",null,"-","-","-","-",null,null,null,null,null,null,"-","-","-","-",null,"-","-","-","-",null,"-","-","-","-"]
[null,null,null,null,null,null,null,null,null,null,null,null,null,null,null,null,null,null,null,null,null,null,null,null,null,null,null,null,null,null,"-","-","-","-",null,"-","-","-","-",null,"-","-","-","-",null,"-","-","-","-",null,"-","-","-","-",null,null,null,null,null,null,"-","-","-","-",null,"-","-","-","-",null,"-","-","-","-"]
[null,null,null,null,null,null,null,null,null,null,null,null,null,null,null,null,null,null,null,null,null,null,null,null,null,null,null,null,null,null,"-","-","-","-",null,"-","-","-","-",null,"-","-","-","-",null,"-","-","-","-",null,"-","-","-","-",null,null,null,null,null,null,"-","-","-","-",null,"-","-","-","-",null,"-","-","-","-"]
[null,null,null,null,null,null,null,null,null,null,null,null,null,null,null,null,null,null,null,null,null,null,null,null,null,null,null,null,null,null,"-","-","-","-",null,"-","-","-","-",null,"-","-","-","-",null,"-","-","-","-",null,"-","-","-","-",null,null,null,null,null,null,"-","-","-","-",null,"-","-","-","-",null,"-","-","-","-"]
[null,null,null,null,null,null,null,null,null,null,null,null,null,null,null,null,null,null,null,null,null,null,null,null,null,null,null,null,null,null,"-","-","-","-",null,"-","-","-","-",null,"-","-","-","-",null,"-","-","-","-",null,"-","-","-","-",null,null,null,null,null,null,"-","-","-","-",null,"-","-","-","-",null,"-","-","-","-"]
[null,null,null,null,null,null,null,null,null,null,null,null,null,null,null,null,null,null,null,null,null,null,null,null,null,null,null,null,null,null,"-","-","-","-",null,"-","-","-","-",null,"-","-","-","-",null,"-","-","-","-",null,"-","-","-","-",null,null,null,null,null,null,"-","-","-","-",null,"-","-","-","-",null,"-","-","-","-"]
[null,null,null,null,null,null,null,null,null,null,null,null,null,null,null,null,null,null,null,null,null,null,null,null,null,null,null,null,null,null,"-","-","-","-",null,"-","-","-","-",null,"-","-","-","-",null,"-","-","-","-",null,"-","-","-","-",null,null,null,null,null,null,"-","-","-","-",null,"-","-","-","-",null,"-","-","-","-"]
[null,null,null,null,null,null,null,null,null,null,null,null,null,null,null,null,null,null,null,null,null,null,null,null,null,null,null,null,null,null,"-","-","-","-",null,"-","-","-","-",null,"-","-","-","-",null,"-","-","-","-",null,"-","-","-","-",null,null,null,null,null,null,"-","-","-","-",null,"-","-","-","-",null,"-","-","-","-"]
[null,null,null,null,null,null,null,null,null,null,null,null,null,null,null,null,null,null,null,null,null,null,null,null,null,null,null,null,null,null,"-","-","-","-",null,"-","-","-","-",null,"-","-","-","-",null,"-","-","-","-",null,"-","-","-","-",null,null,null,null,null,null,"-","-","-","-",null,"-","-","-","-",null,"-","-","-","-"]
[null,null,null,null,null,null,null,null,null,null,null,null,null,null,null,null,null,null,null,null,null,null,null,null,null,null,null,null,null,null,"-","-","-","-",null,"-","-","-","-",null,"-","-","-","-",null,"-","-","-","-",null,"-","-","-","-",null,null,null,null,null,null,"-","-","-","-",null,"-","-","-","-",null,"-","-","-","-"]
[null,null,null,null,null,null,null,null,null,null,null,null,null,null,null,null,null,null,null,null,null,null,null,null,null,null,null,null,null,null,"-","-","-","-",null,"-","-","-","-",null,"-","-","-","-",null,"-","-","-","-",null,"-","-","-","-",null,null,null,null,null,null,"-","-","-","-",null,"-","-","-","-",null,"-","-","-","-"]
[null,null,null,null,null,null,null,null,null,null,null,null,null,null,null,null,null,null,null,null,null,null,null,null,null,null,null,null,null,null,"-","-","-","-",null,"-","-","-","-",null,"-","-","-","-",null,"-","-","-","-",null,"-","-","-","-",null,null,null,null,null,null,"-","-","-","-",null,"-","-","-","-",null,"-","-","-","-"]
[null,null,null,null,null,null,null,null,null,null,null,null,null,null,null,null,null,null,null,null,null,null,null,null,null,null,null,null,null,null,"-","-","-","-",null,"-","-","-","-",null,"-","-","-","-",null,"-","-","-","-",null,"-","-","-","-",null,null,null,null,null,null,"-","-","-","-",null,"-","-","-","-",null,"-","-","-","-"]
[null,null,null,null,null,null,null,null,null,null,null,null,null,null,null,null,null,null,null,null,null,null,null,null,null,null,null,null,null,null,"-","-","-","-",null,"-","-","-","-",null,"-","-","-","-",null,"-","-","-","-",null,"-","-","-","-",null,null,null,null,null,null,"-","-","-","-",null,"-","-","-","-",null,"-","-","-","-"]
[null,null,null,null,null,null,null,null,null,null,null,null,null,null,null,null,null,null,null,null,null,null,null,null,null,null,null,null,null,null,"-","-","-","-",null,"-","-","-","-",null,"-","-","-","-",null,"-","-","-","-",null,"-","-","-","-",null,null,null,null,null,null,"-","-","-","-",null,"-","-","-","-",null,"-","-","-","-"]
[null,null,null,null,null,null,null,null,null,null,null,null,null,null,null,null,null,null,null,null,null,null,null,null,null,null,null,null,null,null,"-","-","-","-",null,"-","-","-","-",null,"-","-","-","-",null,"-","-","-","-",null,"-","-","-","-",null,null,null,null,null,null,"-","-","-","-",null,"-","-","-","-",null,"-","-","-","-"]
[null,null,null,null,null,null,null,null,null,null,null,null,null,null,null,null,null,null,null,null,null,null,null,null,null,null,null,null,null,null,"-","-","-","-",null,"-","-","-","-",null,"-","-","-","-",null,"-","-","-","-",null,"-","-","-","-",null,null,null,null,null,null,"-","-","-","-",null,"-","-","-","-",null,"-","-","-","-"]
[null,null,null,null,null,null,null,null,null,null,null,null,null,null,null,null,null,null,null,null,null,null,null,null,null,null,null,null,null,null,"-","-","-","-",null,"-","-","-","-",null,"-","-","-","-",null,"-","-","-","-",null,"-","-","-","-",null,null,null,null,null,null,"-","-","-","-",null,"-","-","-","-",null,"-","-","-","-"]
[null,null,null,null,null,null,null,null,null,null,null,null,null,null,null,null,null,null,null,null,null,null,null,null,null,null,null,null,null,null,"-","-","-","-",null,"-","-","-","-",null,"-","-","-","-",null,"-","-","-","-",null,"-","-","-","-",null,null,null,null,null,null,"-","-","-","-",null,"-","-","-","-",null,"-","-","-","-"]
[null,null,null,null,null,null,null,null,null,null,null,null,null,null,null,null,null,null,null,null,null,null,null,null,null,null,null,null,null,null,"-","-","-","-",null,"-","-","-","-",null,"-","-","-","-",null,"-","-","-","-",null,"-","-","-","-",null,null,null,null,null,null,"-","-","-","-",null,"-","-","-","-",null,"-","-","-","-"]
[null,null,null,null,null,null,null,null,null,null,null,null,null,null,null,null,null,null,null,null,null,null,null,null,null,null,null,null,null,null,"-","-","-","-",null,"-","-","-","-",null,"-","-","-","-",null,"-","-","-","-",null,"-","-","-","-",null,null,null,null,null,null,"-","-","-","-",null,"-","-","-","-",null,"-","-","-","-"]
[null,null,null,null,null,null,null,null,null,null,null,null,null,null,null,null,null,null,null,null,null,null,null,null,null,null,null,null,null,null,"-","-","-","-",null,"-","-","-","-",null,"-","-","-","-",null,"-","-","-","-",null,"-","-","-","-",null,null,null,null,null,null,"-","-","-","-",null,"-","-","-","-",null,"-","-","-","-"]
[null,null,null,null,null,null,null,null,null,null,null,null,null,null,null,null,null,null,null,null,null,null,null,null,null,null,null,null,null,null,"-","-","-","-",null,"-","-","-","-",null,"-","-","-","-",null,"-","-","-","-",null,"-","-","-","-",null,null,null,null,null,null,"-","-","-","-",null,"-","-","-","-",null,"-","-","-","-"]
[null,null,null,null,null,null,null,null,null,null,null,null,null,null,null,null,null,null,null,null,null,null,null,null,null,null,null,null,null,null,"-","-","-","-",null,"-","-","-","-",null,"-","-","-","-",null,"-","-","-","-",null,"-","-","-","-",null,null,null,null,null,null,"-","-","-","-",null,"-","-","-","-",null,"-","-","-","-"]
[null,null,null,null,null,null,null,null,null,null,null,null,null,null,null,null,null,null,null,null,null,null,null,null,null,null,null,null,null,null,"-","-","-","-",null,"-","-","-","-",null,"-","-","-","-",null,"-","-","-","-",null,"-","-","-","-",null,null,null,null,null,null,"-","-","-","-",null,"-","-","-","-",null,"-","-","-","-"]
[null,null,null,null,null,null,null,null,null,null,null,null,null,null,null,null,null,null,null,null,null,null,null,null,null,null,null,null,null,null,"-","-","-","-",null,"-","-","-","-",null,"-","-","-","-",null,"-","-","-","-",null,"-","-","-","-",null,null,null,null,null,null,"-","-","-","-",null,"-","-","-","-",null,"-","-","-","-"]
[null,null,null,null,null,null,null,null,null,null,null,null,null,null,null,null,null,null,null,null,null,null,null,null,null,null,null,null,null,null,"-","-","-","-",null,"-","-","-","-",null,"-","-","-","-",null,"-","-","-","-",null,"-","-","-","-",null,null,null,null,null,null,"-","-","-","-",null,"-","-","-","-",null,"-","-","-","-"]
[null,null,null,null,null,null,null,null,null,null,null,null,null,null,null,null,null,null,null,null,null,null,null,null,null,null,null,null,null,null,"-","-","-","-",null,"-","-","-","-",null,"-","-","-","-",null,"-","-","-","-",null,"-","-","-","-",null,null,null,null,null,null,"-","-","-","-",null,"-","-","-","-",null,"-","-","-","-"]
[null,null,null,null,null,null,null,null,null,null,null,null,null,null,null,null,null,null,null,null,null,null,null,null,null,null,null,null,null,null,"-","-","-","-",null,"-","-","-","-",null,"-","-","-","-",null,"-","-","-","-",null,"-","-","-","-",null,null,null,null,null,null,"-","-","-","-",null,"-","-","-","-",null,"-","-","-","-"]
[null,null,null,null,null,null,null,null,null,null,null,null,null,null,null,null,null,null,null,null,null,null,null,null,null,null,null,null,null,null,"-","-","-","-",null,"-","-","-","-",null,"-","-","-","-",null,"-","-","-","-",null,"-","-","-","-",null,null,null,null,null,null,"-","-","-","-",null,"-","-","-","-",null,"-","-","-","-"]
[null,null,null,null,null,null,null,null,null,null,null,null,null,null,null,null,null,null,null,null,null,null,null,null,null,null,null,null,null,null,"-","-","-","-",null,"-","-","-","-",null,"-","-","-","-",null,"-","-","-","-",null,"-","-","-","-",null,null,null,null,null,null,"-","-","-","-",null,"-","-","-","-",null,"-","-","-","-"]
[null,null,null,null,null,null,null,null,null,null,null,null,null,null,null,null,null,null,null,null,null,null,null,null,null,null,null,null,null,null,"-","-","-","-",null,"-","-","-","-",null,"-","-","-","-",null,"-","-","-","-",null,"-","-","-","-",null,null,null,null,null,null,"-","-","-","-",null,"-","-","-","-",null,"-","-","-","-"]
[null,null,null,null,null,null,null,null,null,null,null,null,null,null,null,null,null,null,null,null,null,null,null,null,null,null,null,null,null,null,"-","-","-","-",null,"-","-","-","-",null,"-","-","-","-",null,"-","-","-","-",null,"-","-","-","-",null,null,null,null,null,null,"-","-","-","-",null,"-","-","-","-",null,"-","-","-","-"]
[null,null,null,null,null,null,null,null,null,null,null,null,null,null,null,null,null,null,null,null,null,null,null,null,null,null,null,null,null,null,"-","-","-","-",null,"-","-","-","-",null,"-","-","-","-",null,"-","-","-","-",null,"-","-","-","-",null,null,null,null,null,null,"-","-","-","-",null,"-","-","-","-",null,"-","-","-","-"]
[null,null,null,null,null,null,null,null,null,null,null,null,null,null,null,null,null,null,null,null,null,null,null,null,null,null,null,null,null,null,"-","-","-","-",null,"-","-","-","-",null,"-","-","-","-",null,"-","-","-","-",null,"-","-","-","-",null,null,null,null,null,null,"-","-","-","-",null,"-","-","-","-",null,"-","-","-","-"]
[null,null,null,null,null,null,null,null,null,null,null,null,null,null,null,null,null,null,null,null,null,null,null,null,null,null,null,null,null,null,"-","-","-","-",null,"-","-","-","-",null,"-","-","-","-",null,"-","-","-","-",null,"-","-","-","-",null,null,null,null,null,null,"-","-","-","-",null,"-","-","-","-",null,"-","-","-","-"]
[null,null,null,null,null,null,null,null,null,null,null,null,null,null,null,null,null,null,null,null,null,null,null,null,null,null,null,null,null,null,"-","-","-","-",null,"-","-","-","-",null,"-","-","-","-",null,"-","-","-","-",null,"-","-","-","-",null,null,null,null,null,null,"-","-","-","-",null,"-","-","-","-",null,"-","-","-","-"]
[null,null,null,null,null,null,null,null,null,null,null,null,null,null,null,null,null,null,null,null,null,null,null,null,null,null,null,null,null,null,"-","-","-","-",null,"-","-","-","-",null,"-","-","-","-",null,"-","-","-","-",null,"-","-","-","-",null,null,null,null,null,null,"-","-","-","-",null,"-","-","-","-",null,"-","-","-","-"]
[null,null,null,null,null,null,null,null,null,null,null,null,null,null,null,null,null,null,null,null,null,null,null,null,null,null,null,null,null,null,"-","-","-","-",null,"-","-","-","-",null,"-","-","-","-",null,"-","-","-","-",null,"-","-","-","-",null,null,null,null,null,null,"-","-","-","-",null,"-","-","-","-",null,"-","-","-","-"]
[null,null,null,null,null,null,null,null,null,null,null,null,null,null,null,null,null,null,null,null,null,null,null,null,null,null,null,null,null,null,"-","-","-","-",null,"-","-","-","-",null,"-","-","-","-",null,"-","-","-","-",null,"-","-","-","-",null,null,null,null,null,null,"-","-","-","-",null,"-","-","-","-",null,"-","-","-","-"]
[null,null,null,null,null,null,null,null,null,null,null,null,null,null,null,null,null,null,null,null,null,null,null,null,null,null,null,null,null,null,"-","-","-","-",null,"-","-","-","-",null,"-","-","-","-",null,"-","-","-","-",null,"-","-","-","-",null,null,null,null,null,null,"-","-","-","-",null,"-","-","-","-",null,"-","-","-","-"]
[null,null,null,null,null,null,null,null,null,null,null,null,null,null,null,null,null,null,null,null,null,null,null,null,null,null,null,null,null,null,"-","-","-","-",null,"-","-","-","-",null,"-","-","-","-",null,"-","-","-","-",null,"-","-","-","-",null,null,null,null,null,null,"-","-","-","-",null,"-","-","-","-",null,"-","-","-","-"]
[null,null,null,null,null,null,null,null,null,null,null,null,null,null,null,null,null,null,null,null,null,null,null,null,null,null,null,null,null,null,"-","-","-","-",null,"-","-","-","-",null,"-","-","-","-",null,"-","-","-","-",null,"-","-","-","-",null,null,null,null,null,null,"-","-","-","-",null,"-","-","-","-",null,"-","-","-","-"]
[null,null,null,null,null,null,null,null,null,null,null,null,null,null,null,null,null,null,null,null,null,null,null,null,null,null,null,null,null,null,"-","-","-","-",null,"-","-","-","-",null,"-","-","-","-",null,"-","-","-","-",null,"-","-","-","-",null,null,null,null,null,null,"-","-","-","-",null,"-","-","-","-",null,"-","-","-","-"]
[null,null,null,null,null,null,null,null,null,null,null,null,null,null,null,null,null,null,null,null,null,null,null,null,null,null,null,null,null,null,"-","-","-","-",null,"-","-","-","-",null,"-","-","-","-",null,"-","-","-","-",null,"-","-","-","-",null,null,null,null,null,null,"-","-","-","-",null,"-","-","-","-",null,"-","-","-","-"]
[null,null,null,null,null,null,null,null,null,null,null,null,null,null,null,null,null,null,null,null,null,null,null,null,null,null,null,null,null,null,{"$f":"IF(I77=\"\",\"-\",IF(F77=\"lanternan 2\",I77,\"-\"))","v":"-"},{"$f":"IF(K77=\"\",\"-\",IF(G77=\"lanternan 2\",K77,\"-\"))","v":"-"},{"$f":"IF(AE150<7,K77,\"-\")","v":"-"},{"$f":"IF(AF150<7,I77,\"-\")","v":"-"},null,{"$f":"IF(I77=\"\",\"-\",IF(F77=\"Jämjö Hsk 1\",I77,\"-\"))","v":"-"},{"$f":"IF(K77=\"\",\"-\",IF(G77=\"Jämjö Hsk 1\",K77,\"-\"))","v":"-"},{"$f":"IF(AJ150<7,K77,\"-\")","v":"-"},{"$f":"IF(AK150<7,I77,\"-\")","v":"-"},null,{"$f":"IF(I77=\"\",\"-\",IF(F77=\"Jämjö Hsk 2\",I77,\"-\"))","v":"-"},{"$f":"IF(K77=\"\",\"-\",IF(G77=\"Jämjö Hsk 2\",K77,\"-\"))","v":"-"},{"$f":"IF(AO150<7,K77,\"-\")","v":"-"},{"$f":"IF(AP150<7,I77,\"-\")","v":"-"},null,{"$f":"IF(I77=\"\",\"-\",IF(F77=\"Vaxholm Hsk\",I77,\"-\"))","v":"-"},{"$f":"IF(K77=\"\",\"-\",IF(G77=\"Vaxholm Hsk\",K77,\"-\"))","v":"-"},{"$f":"IF(AT150<7,K77,\"-\")","v":"-"},{"$f":"IF(AU150<7,I77,\"-\")","v":"-"},null,{"$f":"IF(I77=\"\",\"-\",IF(F77=\"Korpen Nybro\",I77,\"-\"))","v":"-"},{"$f":"IF(K77=\"\",\"-\",IF(G77=\"Korpen Nybro\",K77,\"-\"))","v":"-"},{"$f":"IF(AY150<7,K77,\"-\")","v":"-"},{"$f":"IF(AZ150<7,I77,\"-\")","v":"-"},null,null,null,null,null,null,{"$f":"IF(I77=\"\",\"-\",IF(F77=\"Värends Hsk 2\",I77,\"-\"))","v":"-"},{"$f":"IF(K77=\"\",\"-\",IF(G77=\"Värends Hsk 2\",K77,\"-\"))","v":"-"},{"$f":"IF(BI150<7,K77,\"-\")","v":"-"},{"$f":"IF(BJ150<7,I77,\"-\")","v":"-"},null,{"$f":"IF(I77=\"\",\"-\",IF(F77=\"Lanternan 1\",I77,\"-\"))","v":"-"},{"$f":"IF(K77=\"\",\"-\",IF(G77=\"Lanternan 1\",K77,\"-\"))","v":"-"},{"$f":"IF(BN150<7,K77,\"-\")","v":"-"},{"$f":"IF(BO150<7,I77,\"-\")","v":"-"},null,{"$f":"IF(I77=\"\",\"-\",IF(F77=\"Tingsryd Hsc 2\",I77,\"-\"))","v":"-"},{"$f":"IF(K77=\"\",\"-\",IF(G77=\"Tingsryd Hsc 2\",K77,\"-\"))","v":"-"},{"$f":"IF(BS150<7,K77,\"-\")","v":"-"},{"$f":"IF(BT150<7,I77,\"-\")","v":"-"}]
[null,null,null,null,null,null,null,null,null,null,null,null,null,null,null,null,null,null,null,null,null,null,null,null,null,null,null,null,null,null,"-","-","-","-",null,"-","-","-","-",null,"-","-","-","-",null,"-","-","-","-",null,"-","-","-","-",null,null,null,null,null,null,"-","-","-","-",null,"-","-","-","-",null,"-","-","-","-"]
[null,null,null,null,null,null,null,null,null,null,null,null,null,null,null,null,null,null,null,null,null,null,null,null,null,null,null,null,null,null,"-","-","-","-",null,"-","-","-","-",null,"-","-","-","-",null,"-","-","-","-",null,"-","-","-","-",null,null,null,null,null,null,"-","-","-","-",null,"-","-","-","-",null,"-","-","-","-"]
[null,null,null,null,null,null,null,null,null,null,null,null,null,null,null,null,null,null,null,null,null,null,null,null,null,null,null,null,null,null,"-","-","-","-",null,"-","-","-","-",null,"-","-","-","-",null,"-","-","-","-",null,"-","-","-","-",null,null,null,null,null,null,"-","-","-","-",null,"-","-","-","-",null,"-","-","-","-"]
[null,null,null,null,null,null,null,null,null,null,null,null,null,null,null,null,null,null,null,null,null,null,null,null,null,null,null,null,null,null,"-","-","-","-",null,"-","-","-","-",null,"-","-","-","-",null,"-","-","-","-",null,"-","-","-","-",null,null,null,null,null,null,"-","-","-","-",null,"-","-","-","-",null,"-","-","-","-"]
[null,null,null,null,null,null,null,null,null,null,null,null,null,null,null,null,null,null,null,null,null,null,null,null,null,null,null,null,null,null,"-","-","-","-",null,"-","-","-","-",null,"-","-","-","-",null,"-","-","-","-",null,"-","-","-","-",null,null,null,null,null,null,"-","-","-","-",null,"-","-","-","-",null,"-","-","-","-"]
[null,null,null,null,null,null,null,null,null,null,null,null,null,null,null,null,null,null,null,null,null,null,null,null,null,null,null,null,null,null,"-","-","-","-",null,"-","-","-","-",null,"-","-","-","-",null,"-","-","-","-",null,"-","-","-","-",null,null,null,null,null,null,"-","-","-","-",null,"-","-","-","-",null,"-","-","-","-"]
[null,null,null,null,null,null,null,null,null,null,null,null,null,null,null,null,null,null,null,null,null,null,null,null,null,null,null,null,null,null,"-","-","-","-",null,"-","-","-","-",null,"-","-","-","-",null,"-","-","-","-",null,"-","-","-","-",null,null,null,null,null,null,"-","-","-","-",null,"-","-","-","-",null,"-","-","-","-"]
[null,null,null,null,null,null,null,null,null,null,null,null,null,null,null,null,null,null,null,null,null,null,null,null,null,null,null,null,null,null,"-","-","-","-",null,"-","-","-","-",null,"-","-","-","-",null,"-","-","-","-",null,"-","-","-","-",null,null,null,null,null,null,"-","-","-","-",null,"-","-","-","-",null,"-","-","-","-"]
[null,null,null,null,null,null,null,null,null,null,null,null,null,null,null,null,null,null,null,null,null,null,null,null,null,null,null,null,null,null,"-","-","-","-",null,"-","-","-","-",null,"-","-","-","-",null,"-","-","-","-",null,"-","-","-","-",null,null,null,null,null,null,"-","-","-","-",null,"-","-","-","-",null,"-","-","-","-"]
[null,null,null,null,null,null,null,null,null,null,null,null,null,null,null,null,null,null,null,null,null,null,null,null,null,null,null,null,null,null,"-","-","-","-",null,"-","-","-","-",null,"-","-","-","-",null,"-","-","-","-",null,"-","-","-","-",null,null,null,null,null,null,"-","-","-","-",null,"-","-","-","-",null,"-","-","-","-"]
[null,null,null,null,null,null,null,null,null,null,null,null,null,null,null,null,null,null,null,null,null,null,null,null,null,null,null,null,null,null,"-","-","-","-",null,"-","-","-","-",null,"-","-","-","-",null,"-","-","-","-",null,"-","-","-","-",null,null,null,null,null,null,"-","-","-","-",null,"-","-","-","-",null,"-","-","-","-"]
[null,null,null,null,null,null,null,null,null,null,null,null,null,null,null,null,null,null,null,null,null,null,null,null,null,null,null,null,null,null,"-","-","-","-",null,"-","-","-","-",null,"-","-","-","-",null,"-","-","-","-",null,"-","-","-","-",null,null,null,null,null,null,"-","-","-","-",null,"-","-","-","-",null,"-","-","-","-"]
[null,null,null,null,null,null,null,null,null,null,null,null,null,null,null,null,null,null,null,null,null,null,null,null,null,null,null,null,null,null,"-","-","-","-",null,"-","-","-","-",null,"-","-","-","-",null,"-","-","-","-",null,"-","-","-","-",null,null,null,null,null,null,"-","-","-","-",null,"-","-","-","-",null,"-","-","-","-"]

{"sheet":"Tabeller","index":2,"n_rows":28,"n_cols":13,"rows_kept":28,"cut":false,"hidden":false,"merged":[]}
[null,"Seriespel säsongen 2019/ 2020"]
[null,"Division 1"]
["Plac",null,"Sp.m","3p","2p","1p","0p",null,null,"Matchkvot",null,"(+/-)","Poäng"]
[1,{"$f":"'Spelprogram Div 1'!R81","v":"Carlskrona Hsc"},{"$f":"'Spelprogram Div 1'!S81","v":0},{"$f":"'Spelprogram Div 1'!T81","v":0},{"$f":"'Spelprogram Div 1'!U81","v":0},{"$f":"'Spelprogram Div 1'!V81","v":0},{"$f":"'Spelprogram Div 1'!W81","v":0},null,{"$f":"'Spelprogram Div 1'!Y81","v":0},":",{"$f":"'Spelprogram Div 1'!AA81","v":0},{"$f":"'Spelprogram Div 1'!AB81","v":0},{"$f":"'Spelprogram Div 1'!AC81","v":0}]
[2,{"$f":"'Spelprogram Div 1'!R80","v":"Växjö Hsk 1"},{"$f":"'Spelprogram Div 1'!S80","v":0},{"$f":"'Spelprogram Div 1'!T80","v":0},{"$f":"'Spelprogram Div 1'!U80","v":0},{"$f":"'Spelprogram Div 1'!V80","v":0},{"$f":"'Spelprogram Div 1'!W80","v":0},null,{"$f":"'Spelprogram Div 1'!Y80","v":0},":",{"$f":"'Spelprogram Div 1'!AA80","v":0},{"$f":"'Spelprogram Div 1'!AB80","v":0},{"$f":"'Spelprogram Div 1'!AC80","v":0}]
[3,{"$f":"'Spelprogram Div 1'!R85","v":"Tingsryd Hsc 1"},{"$f":"'Spelprogram Div 1'!S85","v":0},{"$f":"'Spelprogram Div 1'!T85","v":0},{"$f":"'Spelprogram Div 1'!U85","v":0},{"$f":"'Spelprogram Div 1'!V85","v":0},{"$f":"'Spelprogram Div 1'!W85","v":0},null,{"$f":"'Spelprogram Div 1'!Y85","v":0},":",{"$f":"'Spelprogram Div 1'!AA85","v":0},{"$f":"'Spelprogram Div 1'!AB85","v":0},{"$f":"'Spelprogram Div 1'!AC85","v":0}]
[4,{"$f":"'Spelprogram Div 1'!R79","v":"Korpen Åseda"},{"$f":"'Spelprogram Div 1'!S79","v":0},{"$f":"'Spelprogram Div 1'!T79","v":0},{"$f":"'Spelprogram Div 1'!U79","v":0},{"$f":"'Spelprogram Div 1'!V79","v":0},{"$f":"'Spelprogram Div 1'!W79","v":0},null,{"$f":"'Spelprogram Div 1'!Y79","v":0},":",{"$f":"'Spelprogram Div 1'!AA79","v":0},{"$f":"'Spelprogram Div 1'!AB79","v":0},{"$f":"'Spelprogram Div 1'!AC79","v":0}]
[5,{"$f":"'Spelprogram Div 1'!R77","v":"Sibbamåla "},{"$f":"'Spelprogram Div 1'!S77","v":0},{"$f":"'Spelprogram Div 1'!T77","v":0},{"$f":"'Spelprogram Div 1'!U77","v":0},{"$f":"'Spelprogram Div 1'!V77","v":0},{"$f":"'Spelprogram Div 1'!W77","v":0},null,{"$f":"'Spelprogram Div 1'!Y77","v":0},":",{"$f":"'Spelprogram Div 1'!AA77","v":0},{"$f":"'Spelprogram Div 1'!AB77","v":0},{"$f":"'Spelprogram Div 1'!AC77","v":0}]
[6,{"$f":"'Spelprogram Div 1'!R78","v":"Dynapac"},{"$f":"'Spelprogram Div 1'!S78","v":0},{"$f":"'Spelprogram Div 1'!T78","v":0},{"$f":"'Spelprogram Div 1'!U78","v":0},{"$f":"'Spelprogram Div 1'!V78","v":0},{"$f":"'Spelprogram Div 1'!W78","v":0},null,{"$f":"'Spelprogram Div 1'!Y78","v":0},":",{"$f":"'Spelprogram Div 1'!AA78","v":0},{"$f":"'Spelprogram Div 1'!AB78","v":0},{"$f":"'Spelprogram Div 1'!AC78","v":0}]
[7,{"$f":"'Spelprogram Div 1'!R84","v":"Värends Hsk 1"},{"$f":"'Spelprogram Div 1'!S84","v":0},{"$f":"'Spelprogram Div 1'!T84","v":0},{"$f":"'Spelprogram Div 1'!U84","v":0},{"$f":"'Spelprogram Div 1'!V84","v":0},{"$f":"'Spelprogram Div 1'!W84","v":0},null,{"$f":"'Spelprogram Div 1'!Y84","v":0},":",{"$f":"'Spelprogram Div 1'!AA84","v":0},{"$f":"'Spelprogram Div 1'!AB84","v":0},{"$f":"'Spelprogram Div 1'!AC84","v":0}]
[8,{"$f":"'Spelprogram Div 1'!R82","v":"Växjö Hsk 2"},{"$f":"'Spelprogram Div 1'!S82","v":0},{"$f":"'Spelprogram Div 1'!T82","v":0},{"$f":"'Spelprogram Div 1'!U82","v":0},{"$f":"'Spelprogram Div 1'!V82","v":0},{"$f":"'Spelprogram Div 1'!W82","v":0},null,{"$f":"'Spelprogram Div 1'!Y82","v":0},":",{"$f":"'Spelprogram Div 1'!AA82","v":0},{"$f":"'Spelprogram Div 1'!AB82","v":0},{"$f":"'Spelprogram Div 1'!AC82","v":0}]
[]
[]
[]
[]
[]
[]
[]
[null,"Division 2"]
["Plac",null,"Sp.m","3p","2p","1p","0p",null,null,"Matchkvot",null,"(+/-)","Poäng"]
[1,{"$f":"'Spelprogram Div 2'!R81","v":"Korpen Nybro"},{"$f":"'Spelprogram Div 2'!S81","v":0},{"$f":"'Spelprogram Div 2'!T81","v":0},{"$f":"'Spelprogram Div 2'!U81","v":0},{"$f":"'Spelprogram Div 2'!V81","v":0},{"$f":"'Spelprogram Div 2'!W81","v":0},null,{"$f":"'Spelprogram Div 2'!Y81","v":0},{"$f":"'Spelprogram Div 2'!Z81","v":":"},{"$f":"'Spelprogram Div 2'!AA81","v":0},{"$f":"'Spelprogram Div 2'!AB81","v":0},{"$f":"'Spelprogram Div 2'!AC81","v":0}]
[2,{"$f":"'Spelprogram Div 2'!R79","v":"Jämjö Hsk 2"},{"$f":"'Spelprogram Div 2'!S79","v":0},{"$f":"'Spelprogram Div 2'!T79","v":0},{"$f":"'Spelprogram Div 2'!U79","v":0},{"$f":"'Spelprogram Div 2'!V79","v":0},{"$f":"'Spelprogram Div 2'!W79","v":0},null,{"$f":"'Spelprogram Div 2'!Y79","v":0},{"$f":"'Spelprogram Div 2'!Z79","v":":"},{"$f":"'Spelprogram Div 2'!AA79","v":0},{"$f":"'Spelprogram Div 2'!AB79","v":0},{"$f":"'Spelprogram Div 2'!AC79","v":0}]
[3,{"$f":"'Spelprogram Div 2'!R84","v":"Lanternan 1"},{"$f":"'Spelprogram Div 2'!S84","v":0},{"$f":"'Spelprogram Div 2'!T84","v":0},{"$f":"'Spelprogram Div 2'!U84","v":0},{"$f":"'Spelprogram Div 2'!V84","v":0},{"$f":"'Spelprogram Div 2'!W84","v":0},null,{"$f":"'Spelprogram Div 2'!Y84","v":0},{"$f":"'Spelprogram Div 2'!Z84","v":":"},{"$f":"'Spelprogram Div 2'!AA84","v":0},{"$f":"'Spelprogram Div 2'!AB84","v":0},{"$f":"'Spelprogram Div 2'!AC84","v":0}]
[4,{"$f":"'Spelprogram Div 2'!R78","v":"Jämjö Hsk 1"},{"$f":"'Spelprogram Div 2'!S78","v":0},{"$f":"'Spelprogram Div 2'!T78","v":0},{"$f":"'Spelprogram Div 2'!U78","v":0},{"$f":"'Spelprogram Div 2'!V78","v":0},{"$f":"'Spelprogram Div 2'!W78","v":0},null,{"$f":"'Spelprogram Div 2'!Y78","v":0},{"$f":"'Spelprogram Div 2'!Z78","v":":"},{"$f":"'Spelprogram Div 2'!AA78","v":0},{"$f":"'Spelprogram Div 2'!AB78","v":0},{"$f":"'Spelprogram Div 2'!AC78","v":0}]
[5,{"$f":"'Spelprogram Div 2'!R85","v":"Tingsryd Hsc 2"},{"$f":"'Spelprogram Div 2'!S85","v":0},{"$f":"'Spelprogram Div 2'!T85","v":0},{"$f":"'Spelprogram Div 2'!U85","v":0},{"$f":"'Spelprogram Div 2'!V85","v":0},{"$f":"'Spelprogram Div 2'!W85","v":0},null,{"$f":"'Spelprogram Div 2'!Y85","v":0},{"$f":"'Spelprogram Div 2'!Z80","v":":"},{"$f":"'Spelprogram Div 2'!AA85","v":0},{"$f":"'Spelprogram Div 2'!AB85","v":0},{"$f":"'Spelprogram Div 2'!AC85","v":0}]
[6,{"$f":"'Spelprogram Div 2'!R83","v":"Värends Hsk 2"},{"$f":"'Spelprogram Div 2'!S83","v":0},{"$f":"'Spelprogram Div 2'!T83","v":0},{"$f":"'Spelprogram Div 2'!U83","v":0},{"$f":"'Spelprogram Div 2'!V83","v":0},{"$f":"'Spelprogram Div 2'!W83","v":0},null,{"$f":"'Spelprogram Div 2'!Y83","v":0},{"$f":"'Spelprogram Div 2'!Z83","v":":"},{"$f":"'Spelprogram Div 2'!AA83","v":0},{"$f":"'Spelprogram Div 2'!AB83","v":0},{"$f":"'Spelprogram Div 2'!AC83","v":0}]
[7,{"$f":"'Spelprogram Div 2'!R77","v":"Lanternan 2"},{"$f":"'Spelprogram Div 2'!S77","v":0},{"$f":"'Spelprogram Div 2'!T77","v":0},{"$f":"'Spelprogram Div 2'!U77","v":0},{"$f":"'Spelprogram Div 2'!V77","v":0},{"$f":"'Spelprogram Div 2'!W77","v":0},null,{"$f":"'Spelprogram Div 2'!Y77","v":0},{"$f":"'Spelprogram Div 2'!Z77","v":":"},{"$f":"'Spelprogram Div 2'!AA77","v":0},{"$f":"'Spelprogram Div 2'!AB77","v":0},{"$f":"'Spelprogram Div 2'!AC77","v":0}]
[8,{"$f":"'Spelprogram Div 2'!R80","v":"Vaxholm Hsk"},{"$f":"'Spelprogram Div 2'!S80","v":0},{"$f":"'Spelprogram Div 2'!T80","v":0},{"$f":"'Spelprogram Div 2'!U80","v":0},{"$f":"'Spelprogram Div 2'!V80","v":0},{"$f":"'Spelprogram Div 2'!W80","v":0},null,{"$f":"'Spelprogram Div 2'!Y80","v":0},{"$f":"'Spelprogram Div 2'!Z80","v":":"},{"$f":"'Spelprogram Div 2'!AA80","v":0},{"$f":"'Spelprogram Div 2'!AB80","v":0},{"$f":"'Spelprogram Div 2'!AC80","v":0}]

{"sheet":"Serieinformation","index":3,"n_rows":57,"n_cols":1,"rows_kept":57,"cut":false,"hidden":false,"merged":[]}
["Seriespel Div 1 / Div 2  2019/ 2020"]
["16 lag har anmält sitt intresse för seriespel."]
[]
["Den som vinner Division 1 blir lag-SM vinnare inomhus."]
["Om matcher måste flyttas skall dessa spelas innan nästa serieomgång, överträdelse medför automatiskt W.O"]
["Berörda parter(dvs. Arrangör, Gert Karlsson o Tomas Lindahl) underättas i god tid."]
["Utdrag från förbundets styrelseprotokoll den 30 aug 2006."]
["§ 6   Beslut togs om s.k W.O matcher: "]
["Om ett lag inte kan spela på utsatt dag bör den i första hand flyttas till annat speldatum, senast innan nästa "]
["spelomgång, laget som vill flytta match bestämmer ej spelplats, utan det gör andra laget."]
["Om w.o måste lämnas gäller följande: 1:a gången ingen åtgärd, 2:a gången blir det böter på 500:- som förbundet "]
["driver in och fördelar till de berörda klubbarna. "]
[" Om inte detta betalas innan nästa serieomgång blir laget uteslutet ur serien. "]
["Vid ev. tredje gången blir laget direkt uteslutet."]
[]
["Poängberäkning:"]
["Vinst=3 poäng ,  vinst efter 7-meterskast=2 poäng ,  förlust efter 7-meterskast=1 poäng och förlust=0 poäng "]
["Vid oavgjort 5-5 blir det omkastning på 7 meter , alla i laget kastar 5 skor var från 7 meter , skulle det "]
["fortfarande inte gå att skilja lagen åt får lagen själva utse en kastare som kastar 5 skor från 7 meter."]
["Är det fortfarande lika får de utse en ny kastare(om laget vill får de utse samma kastare) tills ett avgörande har skett."]
[]
["Arrangör skickar in matchresultat via SMS till Tomas Lindahl direkt efter avslutade matcher "]
["Tel. 073-4004693 skriv matchnummer enligt spelprogram följt av resultatet i matchen."]
["Matchprotokollet skickas till Gert Karlsson via e-post:  gert.karlsson@svhkf.se "]
["för uppdatering av rankingtabell."]
["Har ni inte tillgång till e-post får ni skicka matchprotokollet till  Gert Karlsson Hospitalsgatan 44 602 27 N-köping."]
[]
["Kontaktpersoner:                                                                                                                   Spelplatser"]
["Växjö Hsk        Bertil Westergren      0470-19710  el.  070-3753980                                "]
["Värend           Lars-Åke Brincner     076-1109781                                                          Växjö Boulehall                                    "]
["Korpen Åseda     Gert Karlsson            076-2569767                                                        Åseda"]
["Korpen Nybro  Kjell Rydh 073-8024233                                                       Korpcentrum, Kungshallsvägen 33"]
["Tingsryd Hsc  1          Hans Johansson        070-3960608                                              Väckelsång"]
["Tingsryd Hsc  2           Olle Nilsson             073-5026196                                              Väckelsång"]
[]
[]
["Dynapac                 Peter Olsson          0455-21660  el. 070-8359208              Boulehallen i Karlskrona"]
["Vaxholm         Kristian Jältsäter                  0707-216721"]
["Lanternan      Christer Blomgren        Tel: 0455-57668 el. 070-6316669            Boulehallen i Karlskrona"]
["Carlskrona             Leif Sundahl  0455-42963    el.  070-9690151                    Boulehallen i Karlskrona"]
["Sibbamåla            Mattias Gneupel     0455-91141    el.  070-3893099             Boulehallen i Karlskrona"]
["Jämjö Hsk 1 o 2     Bernt Olsson         0455-59026   el. 070-5127735                Boulehallen i Karlskrona"]
[]
["Seriespelsupplägg 2019/2020"]
["Div 1 = 8 lag  Spelas med dubbelmöten, hemmalaget får möjlighet att se bortalagets spelaruppställning"]
[]
[]
["Div 2 =8 lag. Spelas med dubbelmöten, hemmalaget får möjlighet att se bortalagets spelaruppställning"]
[]
["Div 1"]
["Priser delas ut till de 3 främsta i serien"]
["Lag 7 och 8 åker ur till Div 2"]
[]
["Div 2"]
["Priser delas ut till de 3 främsta i serien"]
[]
["Lag 1 och 2 flyttas upp till Div 1"]